BEGIN:VCALENDAR
VERSION:2.0
PRODID:-//ChamberMaster//Event Calendar 2.0//EN
METHOD:PUBLISH
X-PUBLISHED-TTL:P3D
REFRESH-INTERVAL:P3D
CALSCALE:GREGORIAN
BEGIN:VEVENT
DTSTART;VALUE=DATE:20180125
DTEND;VALUE=DATE:20180126
TRANSP:TRANSPARENT
X-MICROSOFT-CDO-ALLDAYEVENT:TRUE
SUMMARY:* Healthy Eating CHIP group meeting
DESCRIPTION:January 25\n\nHealthy Eating CHIP group meeting \n\n3:00 - 4:30 p.m.\n\nDoyle Conference Room\n\n464 Abbott Ave\, Leominster
X-ALT-DESC;FMTTYPE=text/html:<strong><span style="color:#080808\;"><span style="font-family:georgia\,serif\;"><span style="font-size:9.0pt\;">January 25</span></span></span></strong><br />\n<strong><span style="color:#080808\;"><span style="font-family:georgia\,serif\;"><span style="font-size:9.0pt\;"><strong>Healthy Eating CHIP group meeting </strong></span></span></span></strong><br />\n<span style="color:#080808\;"><span style="font-family:georgia\,serif\;"><span style="font-size:9.0pt\;">3:00 - 4:30 p.m.<br />\nDoyle Conference Room<br />\n464 Abbott Ave\, Leominster</span></span></span><br />\n&nbsp\;
LOCATION:
UID:e.518.32727
SEQUENCE:3
DTSTAMP:20260426T042507Z
URL:https://business.nvcoc.com/events/details/healthy-eating-chip-group-meeting-32727
END:VEVENT

END:VCALENDAR
