BEGIN:VCALENDAR
VERSION:2.0
PRODID:-//ChamberMaster//Event Calendar 2.0//EN
METHOD:PUBLISH
X-PUBLISHED-TTL:P3D
REFRESH-INTERVAL:P3D
CALSCALE:GREGORIAN
BEGIN:VEVENT
DTSTART:20150605T160000Z
DTEND:20150605T160000Z
X-MICROSOFT-CDO-ALLDAYEVENT:FALSE
SUMMARY:Groundbreaking of the new COURTYARD® by Marriott® at The Point\, Littleton
DESCRIPTION:The Point\, Constitution Avenue - Littleton\, MA\n\nFriday\, June 5th | 12:00 noon\n\n \n\nPlease join us as we officially break ground on the new COURTYARD by Marriott hotel at The Point! The new Courtyard by Marriott will offer contemporary rooms highlighted by stylish and flexible workspaces. The lobby will feature casual meeting space\, a business center\, 24/7 market\, and an on-site "bistro" offering meals that can be eaten in or taken to go. The hotel will also include a breakfast area\, 24 hour fitness center\, pool\, and complimentary Wi-Fi internet.\n\n \n\nLafrance Hospitality Company owns and operates multiple hotel properties throughout Massachusetts\, New Hampshire\, Maine\, and Florida\, and event venues and restaurants in Southeastern Massachusetts. Based out of Westport\, MA\, Lafrance Hospitality Company is a family business established in 1955 and strives to be the premier hospitality company by employing the very best people trained and empowered to deliver a quality product with sensational service to every guest\, every time.
X-ALT-DESC;FMTTYPE=text/html:<span style="font-family:calibri\,sans-serif\;"><span style="font-size:11.0pt\;">The Point\, Constitution Avenue - Littleton\, MA</span></span><br />\n<span style="color:windowtext\;"><span style="font-family:calibri\,sans-serif\;"><span style="font-size:11.0pt\;">Friday\, June 5th | 12:00 noon</span></span></span><br />\n&nbsp\;<br />\n<span style="color:gray\;">Please join us as we officially break ground on the new COURTYARD by Marriott hotel at The Point! The new Courtyard by Marriott will offer contemporary rooms highlighted by stylish and flexible workspaces. The lobby will feature casual meeting space\, a business center\, 24/7 market\, and an on-site &ldquo\;bistro&rdquo\; offering meals that can be eaten in or taken to go. The hotel will also include a breakfast area\, 24 hour fitness center\, pool\, and complimentary Wi-Fi internet.</span><br />\n&nbsp\;<br />\n<span style="color:gray\;">Lafrance Hospitality Company owns and operates multiple hotel properties throughout Massachusetts\, New Hampshire\, Maine\, and Florida\, and event venues and restaurants in Southeastern Massachusetts. Based out of Westport\, MA\, Lafrance Hospitality Company is a family business established in 1955 and strives to be the premier hospitality company by employing the very best people trained and empowered to deliver a quality product with sensational service to every guest\, every time.</span><br />\n<br />\n&nbsp\;
LOCATION:
UID:e.518.21008
SEQUENCE:3
DTSTAMP:20260424T022755Z
URL:https://business.nvcoc.com/events/details/groundbreaking-of-the-new-courtyard-by-marriott-at-the-point-littleton-06-05-2015-21008
END:VEVENT

END:VCALENDAR
