BEGIN:VCALENDAR
VERSION:2.0
PRODID:-//ChamberMaster//Event Calendar 2.0//EN
METHOD:PUBLISH
X-PUBLISHED-TTL:P3D
REFRESH-INTERVAL:P3D
CALSCALE:GREGORIAN
BEGIN:VEVENT
DTSTART:20140302T180000Z
DTEND:20140302T200000Z
X-MICROSOFT-CDO-ALLDAYEVENT:FALSE
SUMMARY:* GCS Annual Open House
DESCRIPTION:Groton Community School is hosting its annual Open House on Sunday\, March 2\, from 1 to 3 p.m.  Located at 110 Boston Road\, Groton Community School offers programs for Toddler\, Preschool and Kindergarten\, including full day and extended day options. Teachers\, staff and members of the Board of Directors will be on hand to answer questions and share information about the school community\, philosophy and curriculum. Families are welcome to explore the classrooms and learn more about what makes GCS special. Light refreshments will be served.  For more than 75 years\, Groton Community School has been committed to interacting with each child as a unique individual and dedicated to giving each child and his/her family the most positive first school experience. The school was recently re-accredited by NAEYC\, the National Association for the Education of Young Children\, a hallmark of excellence in early childhood education.  We hope you will join us to see first-hand what Groton Community School offers.
X-ALT-DESC;FMTTYPE=text/html:Groton Community School is hosting its annual Open House on Sunday\, March 2\, from 1 to 3 p.m. &nbsp\;Located at 110 Boston Road\, Groton Community School offers programs for Toddler\, Preschool and Kindergarten\, including full day and extended day options. Teachers\, staff and members of the Board of Directors will be on hand to answer questions and share information about the school community\, philosophy and curriculum. Families are welcome to explore the classrooms and learn more about what makes GCS special.&nbsp\;Light refreshments will be served.&nbsp\; For more than 75 years\, Groton Community School has been committed to interacting with each child as a unique individual and dedicated to giving each child and his/her family the most positive first school experience. The school was recently re-accredited by NAEYC\, the National Association for the Education of Young Children\, a hallmark of excellence in early childhood education.&nbsp\; We hope you will join us to see first-hand what Groton Community School offers. &nbsp\;
LOCATION:Groton Community School 110 Boston Road Groton\, MA
UID:e.518.16626
SEQUENCE:3
DTSTAMP:20260425T161329Z
URL:https://business.nvcoc.com/events/details/gcs-annual-open-house-03-02-2014-16626
END:VEVENT

END:VCALENDAR
