BEGIN:VCALENDAR
VERSION:2.0
PRODID:-//ChamberMaster//Event Calendar 2.0//EN
METHOD:PUBLISH
X-PUBLISHED-TTL:P3D
REFRESH-INTERVAL:P3D
CALSCALE:GREGORIAN
BEGIN:VEVENT
DTSTART;VALUE=DATE:20180124
DTEND;VALUE=DATE:20180125
TRANSP:TRANSPARENT
X-MICROSOFT-CDO-ALLDAYEVENT:TRUE
SUMMARY:* GBA January Meeting
DESCRIPTION:Please join us for our January dinner on Wednesday\, January 24th at 6PM at the Groton Public Library. Vanessa Abraham\, the GPL director\, will be speaking with us about the library's resources for small businesses.\n\n\n\nPlease RSVP by Monday\, January 22nd to help us with headcount expectations.\n\n\n\nThanks\,\n\nKim Meninger
X-ALT-DESC;FMTTYPE=text/html:<span style="color:#202020\;"><span style="font-family:helvetica\,sans-serif\;">Please join us for our January dinner on Wednesday\, January 24th at 6PM at the Groton Public Library. Vanessa Abraham\, the GPL director\, will be speaking with us about the library&#39\;s resources for small businesses.<br />\n<br />\n<strong>Please RSVP by Monday\, January 22nd</strong>&nbsp\;to help us with headcount expectations.<br />\n<br />\nThanks\,<br />\nKim Meninger</span></span>
LOCATION:
UID:e.518.32682
SEQUENCE:3
DTSTAMP:20260426T042431Z
URL:https://business.nvcoc.com/events/details/gba-january-meeting-32682
END:VEVENT

END:VCALENDAR
