BEGIN:VCALENDAR
VERSION:2.0
PRODID:-//ChamberMaster//Event Calendar 2.0//EN
METHOD:PUBLISH
X-PUBLISHED-TTL:P3D
REFRESH-INTERVAL:P3D
CALSCALE:GREGORIAN
BEGIN:VEVENT
DTSTART:20141002T173000Z
DTEND:20141002T190000Z
X-MICROSOFT-CDO-ALLDAYEVENT:FALSE
SUMMARY:Free Small Business Counseling - SBDC
DESCRIPTION:Meets at Chamber every other Thursday\n\n\n\nMichael Holbrook of Clark University\, offers his assistance to new\, expanding and troubled businesses. He provides counseling in a variety of areas including finance\, marketing\, accounting\, operations and planning. All counseling services are offered FREE of charge and you do not need to be a Chamber member to take advantage of this opportunity. \n\n  \n\nClick here for more information. \n\n \n\nBy appointment only - Contact the Chamber at 978-772-6976 to schedule.
X-ALT-DESC;FMTTYPE=text/html:<div>Meets at Chamber every other Thursday</div>\n\n<div><br />\n<font size="-1">Michael Holbrook of Clark University\, offers his assistance to new\, expanding and troubled businesses. He provides counseling in a variety of areas including finance\, marketing\, accounting\, operations and planning. All counseling services are offered FREE of charge and you do not need to be a Chamber member to take advantage of this opportunity. </font></div>\n\n<div>&nbsp\;&nbsp\;</div>\n\n<div><font size="-1"><a href="http://www.clarku.edu/offices/sbdc/" target="_blank"><em><strong>Click here</strong></em></a> for more information. </font></div>\n\n<div>&nbsp\;</div>\n\n<div><font size="-1">By appointment only - Contact the Chamber at 978-772-6976 to schedule.</font></div>\n
LOCATION:Nashoba Valley Chamber Offices 100 Sherman Ave\, Suite 3 Devens MA 01434 www.nvcoc.com
UID:e.518.18025
SEQUENCE:3
DTSTAMP:20260424T231902Z
URL:https://business.nvcoc.com/events/details/free-small-business-counseling-sbdc-10-02-2014-18025
END:VEVENT

END:VCALENDAR
