BEGIN:VCALENDAR
VERSION:2.0
PRODID:-//ChamberMaster//Event Calendar 2.0//EN
METHOD:PUBLISH
X-PUBLISHED-TTL:P3D
REFRESH-INTERVAL:P3D
CALSCALE:GREGORIAN
BEGIN:VEVENT
DTSTART:20141217T183000Z
DTEND:20141217T203000Z
X-MICROSOFT-CDO-ALLDAYEVENT:FALSE
SUMMARY:Free Small Business Counseling - Clark University SBDC
DESCRIPTION:Meets at Chamber every week.  Call for appointments - 978-772-6976\n\n\n\n  \n\nClick here for more information.\n\n \n\nBy appointment only - Contact the Chamber at 978-772-6976 to schedule.
X-ALT-DESC;FMTTYPE=text/html:<div>\n<div style="line-height: 20.7999992370605px\;">Meets at Chamber every week. &nbsp\;Call for appointments - 978-772-6976</div>\n\n<div style="line-height: 20.7999992370605px\;"><br />\n&nbsp\;&nbsp\;</div>\n\n<div style="line-height: 20.7999992370605px\;"><font size="-1"><a href="http://www.clarku.edu/offices/sbdc/" target="_blank"><em><strong>Click here</strong></em></a>&nbsp\;for more information.</font></div>\n\n<div style="line-height: 20.7999992370605px\;">&nbsp\;</div>\n\n<div style="line-height: 20.7999992370605px\;"><font size="-1">By appointment only - Contact the Chamber at 978-772-6976 to schedule.</font></div>\n</div>\n
LOCATION:Nashoba Valley Chamber Offices 100 Sherman Ave\, Suite 3 Devens MA 01434 www.nvcoc.com
UID:e.518.18870
SEQUENCE:3
DTSTAMP:20260424T185932Z
URL:https://business.nvcoc.com/events/details/free-small-business-counseling-clark-university-sbdc-12-17-2014-18870
END:VEVENT

END:VCALENDAR
