BEGIN:VCALENDAR
VERSION:2.0
PRODID:-//ChamberMaster//Event Calendar 2.0//EN
METHOD:PUBLISH
X-PUBLISHED-TTL:P3D
REFRESH-INTERVAL:P3D
CALSCALE:GREGORIAN
BEGIN:VEVENT
DTSTART:20140108T141500Z
DTEND:20140108T163000Z
X-MICROSOFT-CDO-ALLDAYEVENT:FALSE
SUMMARY:Free Small Business Counseling - Clark University SBDC
DESCRIPTION:Meets at Chamber every other Wednesday\n\n	\n\n	Michael Holbrook of Clark University\, offers his assistance to new\, expanding and troubled businesses. He provides counseling in a variety of areas including finance\, marketing\, accounting\, operations and planning. All counseling services are offered FREE of charge and you do not need to be a Chamber member to take advantage of this opportunity. \n\n	  \n\n	Click here for more information. \n\n	 \n\n	By appointment only - Contact the Chamber at 978-772-6976 to schedule.
X-ALT-DESC;FMTTYPE=text/html:<div>\n	Meets at Chamber every other Wednesday</div>\n<div>\n	<br />\n	<font size="-1">Michael Holbrook of Clark University\, offers his assistance to new\, expanding and troubled businesses. He provides counseling in a variety of areas including finance\, marketing\, accounting\, operations and planning. All counseling services are offered FREE of charge and you do not need to be a Chamber member to take advantage of this opportunity. </font></div>\n<div>\n	&nbsp\;&nbsp\;</div>\n<div>\n	<font size="-1"><a href="http://www.clarku.edu/offices/sbdc/" target="_blank"><em><strong>Click here</strong></em></a> for more information. </font></div>\n<div>\n	&nbsp\;</div>\n<div>\n	<font size="-1">By appointment only - Contact the Chamber at 978-772-6976 to schedule.</font></div>\n
LOCATION:Nashoba Valley Chamber Offices 100 Sherman Ave\, Suite 3 Devens MA 01434 www.nvcoc.com
UID:e.518.15788
SEQUENCE:3
DTSTAMP:20260425T201011Z
URL:https://business.nvcoc.com/events/details/free-small-business-counseling-clark-university-sbdc-01-08-2014-15788
END:VEVENT

END:VCALENDAR
