BEGIN:VCALENDAR
VERSION:2.0
PRODID:-//ChamberMaster//Event Calendar 2.0//EN
METHOD:PUBLISH
X-PUBLISHED-TTL:P3D
REFRESH-INTERVAL:P3D
CALSCALE:GREGORIAN
BEGIN:VEVENT
DTSTART;VALUE=DATE:20140925
DTEND;VALUE=DATE:20141019
TRANSP:TRANSPARENT
X-MICROSOFT-CDO-ALLDAYEVENT:TRUE
SUMMARY:* First Annual Rangoli Art Competition
DESCRIPTION:Now through October 18\, 2014:\n\nFirst Annual Rangoli Art Competition\n\n\n\nwww.rangoligrill.com\n\nwww.facebook.com/rangoligrill
X-ALT-DESC;FMTTYPE=text/html:<br />\n<span style="font-size:16px\;"><span style="font-family:arial\;"><u>Now through October 18\, 2014:</u><br />\nFirst Annual Rangoli Art Competition<br />\n<br />\n<a href="http://www.rangoligrill.com">www.rangoligrill.com</a><br />\n<a href="http://www.facebook.com/rangoligrill">www.facebook.com/rangoligrill</a><br />\n&nbsp\;</span></span><br />\n<br />\n&nbsp\;
LOCATION:
UID:e.518.18096
SEQUENCE:3
DTSTAMP:20260425T010458Z
URL:https://business.nvcoc.com/events/details/first-annual-rangoli-art-competition-09-25-2014-18096
END:VEVENT

END:VCALENDAR
