BEGIN:VCALENDAR
VERSION:2.0
PRODID:-//ChamberMaster//Event Calendar 2.0//EN
METHOD:PUBLISH
X-PUBLISHED-TTL:P3D
REFRESH-INTERVAL:P3D
CALSCALE:GREGORIAN
BEGIN:VEVENT
DTSTART:20150114T123000Z
DTEND:20150114T140000Z
X-MICROSOFT-CDO-ALLDAYEVENT:FALSE
SUMMARY:Fidelity Bank Breakfast Series - Ralph Masiello - Thinking Diagonally
DESCRIPTION:Fidelity Bank Breakfast\n\n\n\nThinking Diagonally\n\nChildren's Books and Commercial Construction Collide\n\n\n\n \n\nGuest speaker:\n\nRalph Masiello \n\n          \n\n\n\nRalph Masiello has illustrated and written over 22 childrens books\, visited over 2500 schools across the nation and overseas. Since 1985\, his books have sold over 2.5 million copies in various languages and have received several prestigious children's book awards including the 2004 New York State Charlotte Award for The Skull Alphabet Book.\n\n\n\nRalph is also a corporate business development agent for his family's commercial construction company\, RPMasiello\, Inc. of Boylston. RPM has built\, renovated\, and refit over 11 million square feet of commercial space throughout New England\, New Jersey\, and Pennsylvania since 1976. \n\n\n\nSo\, how does a guy who draws pictures for children's books use his artist and writing skills to sell buildings? How does a guy who has been involved with commercial construction all his life use his construction skills to sell books?  Thinking Diagonally. \n\n\n\nFor more information about his books (www.ralphmasiello.com) and the construction company (www.rpmasiello.com)
X-ALT-DESC;FMTTYPE=text/html:<br />\n<br />\n<span style="font-size:16px\;"><span style="font-family:times new roman\;"><span style="font-size:36px\;"><span style="color:windowtext\;">Fidelity Bank Breakfast<br />\n<br />\nThinking Diagonally<br />\n<span style="font-size:26px\;"><em>Children&#39\;s Books and Commercial Construction Collide</em></span></span></span></span></span><br />\n<br />\n<span style="font-size:16px\;"><span style="font-family:times new roman\;">&nbsp\;<br />\n<span style="color:windowtext\;">Guest speaker:</span><br />\n<span style="font-size:20px\;"><font color="#005ca8"><b>Ralph Masiello&nbsp\;</b></font><br />\n&nbsp\;&nbsp\;&nbsp\;&nbsp\;&nbsp\;&nbsp\;&nbsp\;&nbsp\;&nbsp\; </span></span></span><br />\n<br />\nRalph Masiello has illustrated and written over 22 childrens books\,&nbsp\;visited over 2500 schools across the nation and overseas. Since 1985\, his books have sold over 2.5 million copies in various languages and have received several prestigious children&rsquo\;s book awards including the 2004 New York State Charlotte Award for The Skull Alphabet Book.<br />\n<br />\nRalph is also a corporate business development agent for his family&rsquo\;s commercial construction company\, RPMasiello\, Inc. of Boylston. RPM has built\, renovated\, and refit over 11 million square feet of commercial space throughout New England\, New Jersey\, and Pennsylvania since 1976.&nbsp\;<br />\n<br />\nSo\, how does a guy who draws pictures for children&rsquo\;s books use his artist and writing skills to sell buildings? How does a guy who has been involved with commercial construction all his life use his construction skills to sell books? &nbsp\;Thinking Diagonally.&nbsp\;<br />\n<br />\nFor more information about his books&nbsp\;(www.ralphmasiello.com) and the&nbsp\;construction company (www.rpmasiello.com)&nbsp\;<br />\n<br />\n<br />\n&nbsp\;
LOCATION:Hilton Garden Inn 59 Andrews Parkway\, Devens
UID:e.518.18885
SEQUENCE:3
DTSTAMP:20260424T172450Z
URL:https://business.nvcoc.com/events/details/fidelity-bank-breakfast-series-ralph-masiello-thinking-diagonally-01-14-2015-18885
END:VEVENT

END:VCALENDAR
