BEGIN:VCALENDAR
VERSION:2.0
PRODID:-//ChamberMaster//Event Calendar 2.0//EN
METHOD:PUBLISH
X-PUBLISHED-TTL:P3D
REFRESH-INTERVAL:P3D
CALSCALE:GREGORIAN
BEGIN:VEVENT
DTSTART:20140916T113000Z
DTEND:20140916T130000Z
X-MICROSOFT-CDO-ALLDAYEVENT:FALSE
SUMMARY:Fidelity Bank Breakfast Series - John Feal: FealGood Foundation
DESCRIPTION:Fidelity Bank Breakfast\n\n \n\nGuest speaker:\n\nJohn Feal - FealGood Foundation\n\n          9/11 First Responder and Advocate\n\n \n\n \n\nIn 2001 John Feal was a 34 year-old US Army veteran and demolition supervisor.  On the days after the terrorist attacks in New York City\, John Feal joined what has been called an ?army of blue-collar workers? who were all converging upon the smoldering wreckage that was the World Trade Center.  Feal\, like thousands of other responders took part in what is said to be ?the largest recovery operation in American History?. Several days after 9/11\, John Feal reported experiencing serious respiratory problems\, a condition that is now notoriously known as the ?WTC Cough?.  Six days after the attacks\, on September 17th\, an eight ton steel beam crushed John Feal?s foot\, during what he calls a ?frenzied\, dangerous cleanup?.  He lost half of his foot and spent eleven weeks in the hospital where he suffered from gangrene and nearly died.  \n\n \n\nJohn battled with a host of health costs after being denied any benefits due to what he calls an ?arbitrary exclusion in the law?he and many other workers who were injured during a 2-week window at Ground Zero did not qualify for the 9/11 Relief Fund?. \n\n \n\nIn the wake of September 11th and the Ground Zero cleanup and gradual rehabilitation John Feal established the non-profit organization\, the FealGood Foundation.  The primary mission of the FealGood Foundation is to spread awareness and educate the public about the ?catastrophic health effects on 9/11 first responders?\, as well as to provide assistance to ?relieve those great heroes of the financial burdens that have been placed on them over the last five years?.
X-ALT-DESC;FMTTYPE=text/html:<br>\n<br>\n<span style="font-size:16px\;"><span style="font-family:times new roman\;"><span style="font-size:36px\;"><span style="color:windowtext\;">Fidelity Bank Breakfast</span></span><br>\n&nbsp\;<br>\n<span style="color:windowtext\;">Guest speaker:</span><br>\n<span style="font-size:20px\;"><strong><span style="color:#005CA8\;">John Feal - FealGood Foundation</span></strong><br>\n&nbsp\;&nbsp\;&nbsp\;&nbsp\;&nbsp\;&nbsp\;&nbsp\;&nbsp\;&nbsp\; <strong><em><span style="color:#00B7DD\;">9/11 First Responder and Advocate</span></em></strong><br>\n&nbsp\;</span><br>\n&nbsp\;<br>\nIn 2001 John Feal was a 34 year-old US Army veteran and demolition supervisor.&nbsp\; On the days after the terrorist attacks in New York City\, John Feal joined what has been called an ?army of blue-collar workers? who were all converging upon the smoldering wreckage that was the World Trade Center.&nbsp\; Feal\, like thousands of other responders took part in what is said to be ?the largest recovery operation in American History?. Several days after 9/11\, John Feal reported experiencing serious respiratory problems\, a condition that is now notoriously known as the ?WTC Cough?.&nbsp\; Six days after the attacks\, on September 17th\, an eight ton steel beam crushed John Feal?s foot\, during what he calls a ?frenzied\, dangerous cleanup?.&nbsp\; He lost half of his foot and spent eleven weeks in the hospital where he suffered from gangrene and nearly died.&nbsp\;&nbsp\;<br>\n&nbsp\;<br>\nJohn battled with a host of health costs after being denied any benefits due to what he calls an ?arbitrary exclusion in the law?he and many other workers who were injured during a 2-week window at Ground Zero did not qualify for the 9/11 Relief Fund?.&nbsp\;<br>\n&nbsp\;</span></span><br>\n<span style="font-family:times new roman\,serif\;"><span style="font-size:12.0pt\;"><span style="font-size:16px\;"><span style="font-family:times new roman\;">In the wake of September 11th and the Ground Zero cleanup and gradual rehabilitation John Feal established the non-profit organization\, the FealGood Foundation.&nbsp\; The primary mission of the FealGood Foundation is to spread awareness and educate the public about the ?catastrophic health effects on 9/11 first responders?\, as well as to provide assistance to ?relieve those great heroes of the financial burdens that have been placed on them over the last five years?.</span></span>&nbsp\; &nbsp\;</span></span>
LOCATION:Hilton Garden Inn 59 Andrews Parkway\, Devens
UID:e.518.17943
SEQUENCE:3
DTSTAMP:20260425T022913Z
URL:https://business.nvcoc.com/events/details/fidelity-bank-breakfast-series-john-feal-fealgood-foundation-09-16-2014-17943
END:VEVENT

END:VCALENDAR
