BEGIN:VCALENDAR
VERSION:2.0
PRODID:-//ChamberMaster//Event Calendar 2.0//EN
METHOD:PUBLISH
X-PUBLISHED-TTL:P3D
REFRESH-INTERVAL:P3D
CALSCALE:GREGORIAN
BEGIN:VEVENT
DTSTART:20140409T113000Z
DTEND:20140409T130000Z
X-MICROSOFT-CDO-ALLDAYEVENT:FALSE
SUMMARY:Fidelity Bank Breakfast Series - Dick Hoyt
DESCRIPTION:Fidelity Bank Breakfast\n\nSponsored by Fidelity Bank\n\n \n\nDick Hoyt\n\nTogether - You Can Do Anything!\n\n \n\nRick Hoyt uses a wheelchair.  That has not stopped him from living a very full and amazing life.  He\, along with his dad\, Dick\, have formed "Team Hoyt" and they have competed around the world doing\n\nmarathons and triathlons. \n\n \n\nThe Hoyts have competed in over 1100 athletic events in the last 34 years.  They have run in 70 marathons - 31 of them being the Boston Marathon.  They have also completed in 252 triathlons\, 6 of them being Ironman distance events.\n\n \n\nDick\, 73\, is a retired Lt. Colonel\, having served in the military for 35 years.  Rick\, 52\, is a graduate of Boston University with a degree in Special Education. \n\n \n\nRick was born in 1962 as a spastic quadriplegic with cerebral palsy and as a non-speaking person   but despite these disabilities\, Rick's mind and spirit have always been strong.  \n\n \n\nDick travels the country doing corporate and community presentations\, educating the public about disability awareness and promoting the Team Hoyt motto\, "Yes You Can".  Through his presentation\, Dick shares his lifelong commitment to changing attitudes and educating others on the world of disabilities. He and his family have seen an impact from their efforts in the area of public attitude toward people with disabilities.
X-ALT-DESC;FMTTYPE=text/html:<br />\n<br />\n<br />\n<br />\n<span style="font-family: times new roman\,serif\;"><span style="font-size: 13pt\;">Fidelity Bank Breakfast<br />\nSponsored by Fidelity Bank<br />\n&nbsp\;</span></span><br />\n<strong><span style="color: rgb(0\, 173\, 239)\;"><span style="font-size: 13pt\;">Dick Hoyt</span></span></strong><br />\n<em><strong><span style="color: rgb(0\, 173\, 239)\;"><span style="font-size: 13pt\;">Together - You Can Do Anything!</span></span></strong></em><br />\n<span style="font-family: times new roman\,serif\;"><span style="font-size: 13pt\;">&nbsp\;<br />\n<em><strong>Rick Hoyt uses a wheelchair.&nbsp\; That has not stopped him from living a very full and amazing life.&nbsp\; He\, along with his dad\, Dick\, have formed &ldquo\;Team Hoyt&rdquo\; and they have competed around the world doing</strong></em><br />\n<strong><em><em>marathons and triathlons.</em>&nbsp\;</em></strong><br />\n&nbsp\;<br />\n<em><strong>The Hoyts have competed in over 1100 athletic events in the last 34 years.&nbsp\; They have run in 70 marathons - 31 of them being the Boston Marathon.&nbsp\; They have also completed in 252 triathlons\, 6 of them being Ironman distance events.</strong></em><br />\n&nbsp\;<br />\n<em><strong>Dick\, 73\, is a retired Lt. Colonel\, having served in the military for 35 years.&nbsp\; Rick\, 52\, is a graduate of Boston University with a degree in Special Education.</strong></em>&nbsp\;<br />\n&nbsp\;<br />\n<em><strong>Rick was born in 1962 as a spastic quadriplegic with cerebral palsy and as a non-speaking person &ndash\; but despite these disabilities\, Rick&rsquo\;s mind and spirit have always been strong.&nbsp\;</strong></em>&nbsp\;<br />\n&nbsp\;<br />\n<em><strong>Dick travels the country doing corporate and community presentations\, educating the public about disability awareness and promoting the Team Hoyt motto\, &ldquo\;Yes You Can&rdquo\;.&nbsp\; Through his presentation\, Dick shares his lifelong commitment to changing attitudes and educating others on the world of disabilities. He and his family have seen an impact from their efforts in the area of public attitude toward people with disabilities.</strong></em></span></span><br />\n<br />\n<br />\n&nbsp\;
LOCATION:Hilton Garden Inn 59 Andrews Parkway\, Devens
UID:e.518.16611
SEQUENCE:3
DTSTAMP:20260425T102947Z
URL:https://business.nvcoc.com/events/details/fidelity-bank-breakfast-series-dick-hoyt-04-09-2014-16611
END:VEVENT

END:VCALENDAR
