BEGIN:VCALENDAR
VERSION:2.0
PRODID:-//ChamberMaster//Event Calendar 2.0//EN
METHOD:PUBLISH
X-PUBLISHED-TTL:P3D
REFRESH-INTERVAL:P3D
CALSCALE:GREGORIAN
BEGIN:VEVENT
DTSTART:20140108T123000Z
DTEND:20140108T140000Z
X-MICROSOFT-CDO-ALLDAYEVENT:FALSE
SUMMARY:Fidelity Bank Breakfast Series - 01/08/2014
DESCRIPTION:Fidelity Bank Breakfast\n\nSponsored by Fidelity Bank\n\n\n\nTed Reinstein of Chronicle\n\n\n\nWed.\, January 8\, 2014 ~ 7:30-9am\n\nDevens Common Center\, 31 Andrews Parkway\, Devens\n\n$25 Members by 1/3/14 or $40\n\n\n\n\n\n \n\nAbout our guest speaker:\n\nTed Reinstein is a veteran reporter\, commentator\, producer and occasional anchor for WCVB-TV Channel 5's "Chronicle\," the nation's longest running locally-produced nightly newsmagazine.  He also reports for WCVB's "On The Record\," a program that addresses political issues of the week.   Since 2004\, he was written a weekly opinion column\, "And Another Thing\," which appears on WCVB.com.  He also sits on WCVB's editorial board as a contributor.   \n\n \n\nIn 2002\, he was part of a team that received a prestigious National DuPont-Columbia Award for Chronicle's coverage of Boston's Big Dig project.\n\n \n\nIn 2010\, Reinstein was one of five national finalists for the Washington Post's "Next Great American Pundit" writing competition.  He is also the co-author of a play\, and has written several shorter plays for Boston's annual Theatre Marathon.  Reinstein is the author of the recently released book\, "New England Notebook."   A collection of his favorite stories from reporting around New England.\n\n \n\nJoin us at this great opportunity!  \n\nThe Fidelity Bank Breakfast Series is a great tool to help you grow your business! Come\, eat a delicious breakfast\, listen to a fascinating speaker\, and expand your networking circle!
X-ALT-DESC;FMTTYPE=text/html:<strong><span style="font-family: georgia\,serif\;"><span style="font-size: 13pt\;">Fidelity Bank Breakfast</span></span></strong><br />\n<strong><span style="font-family: georgia\,serif\;"><span style="font-size: 13pt\;">Sponsored by Fidelity Bank</span></span></strong><br />\n<br />\n<strong><span style="color: rgb(84\, 141\, 212)\;"><span style="font-family: georgia\,serif\;"><span style="font-size: 13pt\;">Ted</span></span></span></strong>&nbsp\;<strong><span style="color: rgb(84\, 141\, 212)\;"><span style="font-family: georgia\,serif\;"><span style="font-size: 13pt\;">Reinstein</span></span></span></strong>&nbsp\;<strong><span style="color: rgb(84\, 141\, 212)\;"><span style="font-family: georgia\,serif\;"><span style="font-size: 13pt\;">of</span></span></span></strong>&nbsp\;<strong><em><span style="color: rgb(84\, 141\, 212)\;"><span style="font-family: georgia\,serif\;"><span style="font-size: 13pt\;">Chronicle</span></span></span></em></strong><br />\n<br />\n<span style="font-family: georgia\,serif\;"><span style="font-size: 13pt\;">Wed.\, January 8\, 2014 ~ 7:30-9am</span></span><br />\n<span style="font-family: georgia\,serif\;"><span style="font-size: 13pt\;">Devens&nbsp\;Common Center</span></span><span style="font-family: georgia\,serif\;"><span style="font-size: 13pt\;">\, 31 Andrews Parkway\,&nbsp\;</span></span><span style="font-family: georgia\,serif\;"><span style="font-size: 13pt\;">Devens</span></span><br />\n<span style="font-family: georgia\,serif\;"><span style="font-size: 13pt\;">$25 Members by 1/3/14 or $40</span></span><br />\n<br />\n<br />\n&nbsp\;<br />\n<strong><em><span style="font-family: georgia\,serif\;"><span style="font-size: 13pt\;">About our guest speaker:</span></span></em></strong><br />\n<span style="font-family: georgia\,serif\;"><span style="font-size: 13pt\;">Ted Reinstein is a veteran reporter\, commentator\, producer and occasional anchor for WCVB-TV Channel 5&rsquo\;s &ldquo\;Chronicle\,&rdquo\; the nation&rsquo\;s longest running locally-produced nightly newsmagazine.&nbsp\; He also reports for WCVB&rsquo\;s &ldquo\;On The Record\,&rdquo\; a program that addresses political issues of the week.&nbsp\;&nbsp\; Since 2004\, he was written a weekly opinion column\, &ldquo\;And Another Thing\,&rdquo\; which appears on WCVB.com.&nbsp\; He also sits on WCVB&rsquo\;s editorial board as a contributor.&nbsp\;&nbsp\; </span></span><br />\n&nbsp\;<br />\n<span style="font-family: georgia\,serif\;"><span style="font-size: 13pt\;">In 2002\, he was part of a team that received a prestigious National DuPont-Columbia Award for Chronicle&rsquo\;s coverage of Boston&rsquo\;s Big Dig project.</span></span><br />\n&nbsp\;<br />\n<span style="font-family: georgia\,serif\;"><span style="font-size: 13pt\;">In 2010\, Reinstein was one of five national finalists for the Washington Post&rsquo\;s &ldquo\;Next Great American Pundit&rdquo\; writing competition.&nbsp\; He is also the co-author of a play\, and has written several shorter plays for Boston&rsquo\;s annual Theatre Marathon.&nbsp\; Reinstein is the author of the recently released book\, &ldquo\;New England Notebook.&rdquo\;&nbsp\;&nbsp\; A collection of his favorite stories from reporting around New England.</span></span><br />\n&nbsp\;<br />\n<strong><em><span style="font-family: georgia\,serif\;"><span style="font-size: 13pt\;">Join us at this great opportunity!&nbsp\; </span></span></em></strong><br />\n<span style="font-family: georgia\,serif\;"><span style="font-size: 13pt\;">The Fidelity Bank Breakfast Series is a great tool to help you grow your business! Come\, eat a delicious breakfast\, listen to a fascinating speaker\, and expand your networking circle!</span></span><br />\n&nbsp\;<br />\n&nbsp\;<br />\n<br />\n
LOCATION:Devens Common Center 31 Andrews Parkway\, Devens
UID:e.518.15563
SEQUENCE:3
DTSTAMP:20260425T210503Z
URL:https://business.nvcoc.com/events/details/fidelity-bank-breakfast-series-01-08-2014-01-08-2014-15563
END:VEVENT

END:VCALENDAR
