BEGIN:VCALENDAR
VERSION:2.0
PRODID:-//ChamberMaster//Event Calendar 2.0//EN
METHOD:PUBLISH
X-PUBLISHED-TTL:P3D
REFRESH-INTERVAL:P3D
CALSCALE:GREGORIAN
BEGIN:VEVENT
DTSTART;VALUE=DATE:20180121
DTEND;VALUE=DATE:20180122
TRANSP:TRANSPARENT
X-MICROSOFT-CDO-ALLDAYEVENT:TRUE
SUMMARY:* Fearless Vision Board Party
DESCRIPTION:Fearless Vision Board Party\n\n Your Dreams Matter!\n\n \n\nThis Sunday\, Jan 21 @ 4   7pm\n\n \n\n~ a workshop for teens ~\n\n \n\nWith Kim Manning and Liz Wood\n\n \n\nYoga\, Dinner\, Vision Board\n\n \n\nJoin us as we shed the outside world\, do some grounding and empowering yoga\, eat great food\, have fun conversation\, and envision our best 2018. Bring your own unique spirit and light to this workshop and we'll create a sacred space where we feel safe to explore and allow our dreams to emerge. [read more]\n\n \n\n$35 each\; with a friend\, $30 each. Sign up by Jan. 19.\n\n \n\nDream it! Believe it! Do It!
X-ALT-DESC;FMTTYPE=text/html:<span style="color:#3661BD\;"><span style="font-family:arial\,sans-serif\;"><span style="font-size:9.0pt\;"><a href="http://r20.rs6.net/tn.jsp?f=001UTwa5Xrj3BcwlLd9slqL2jee4peCIfC4Kk8vWJQE1owveUm37k37-ZS07qKSgPDmXyOpKIclwyi4vUXLlcHYQSSLX3QSH6o_4LfrmbQ30mHFOWtMsUi__bwLtGQMXy_ony-O_K_aMQ1TekfarxZBusEq8MKyuTr5G6xCheUbp13JKSFAcN12K9pmowvkcwVUzlgkT8E8korn1j0JL0pBrJuEbJrZbI6vNp_xhqSo-iSeTMTB9YcUY2lg6nh_SIt7uTFrqL7vzJg=&amp\;c=QBphHzR7YXK7fy8JKM7BM1XXFZKaNvYBRkkipjvEvsiIuGzlgxFQYw==&amp\;ch=mInr4ukc_flvcdS1grIRlBKJQmj_riLsem_PNMoN9B0CKE3mkfitMA==" target="_blank"><strong><span style="color:#789051\;"><span style="font-family:verdana\,sans-serif\;"><span style="font-size:12.0pt\;">Fearless Vision Board Party</span></span></span></strong></a></span></span></span><br />\n&#65279\;<span style="color:#789051\;"><span style="font-family:verdana\,sans-serif\;">Your Dreams Matter!</span></span><br />\n&nbsp\;<br />\n<span style="color:#2A4C7D\;"><span style="font-family:arial\,sans-serif\;">This Sunday\,&nbsp\;Jan 21 @ 4 &ndash\; 7pm</span></span><br />\n&nbsp\;<br />\n<strong><em><span style="color:#789051\;"><span style="font-family:verdana\,sans-serif\;"><span style="font-size:10.5pt\;">~ a workshop for teens ~</span></span></span></em></strong><br />\n&nbsp\;<br />\n<span style="color:#789051\;"><span style="font-family:arial\,sans-serif\;">With Kim Manning and Liz Wood</span></span><br />\n&nbsp\;<br />\n<strong><span style="color:#789051\;"><span style="font-family:french script mt\;">Yoga\, Dinner\, Vision Board</span></span></strong><br />\n&nbsp\;<br />\n<span style="color:#789051\;"><span style="font-family:arial\,sans-serif\;">Join us as we shed the outside world\, do some grounding and empowering yoga\, eat great food\, have fun conversation\, and envision our best 2018. Bring your own unique spirit and light to this workshop and we&#39\;ll create a sacred space where we feel safe to explore and allow our dreams to emerge. </span></span><span style="color:#3661BD\;"><span style="font-family:arial\,sans-serif\;"><span style="font-size:9.0pt\;"><a href="http://r20.rs6.net/tn.jsp?f=001UTwa5Xrj3BcwlLd9slqL2jee4peCIfC4Kk8vWJQE1owveUm37k37-ZS07qKSgPDmXyOpKIclwyi4vUXLlcHYQSSLX3QSH6o_4LfrmbQ30mHFOWtMsUi__bwLtGQMXy_ony-O_K_aMQ1TekfarxZBusEq8MKyuTr5G6xCheUbp13JKSFAcN12K9pmowvkcwVUzlgkT8E8korn1j0JL0pBrJuEbJrZbI6vNp_xhqSo-iSeTMTB9YcUY2lg6nh_SIt7uTFrqL7vzJg=&amp\;c=QBphHzR7YXK7fy8JKM7BM1XXFZKaNvYBRkkipjvEvsiIuGzlgxFQYw==&amp\;ch=mInr4ukc_flvcdS1grIRlBKJQmj_riLsem_PNMoN9B0CKE3mkfitMA==" target="_blank"><strong><span style="color:#789051\;"><span style="font-size:12.0pt\;">[read more]</span></span></strong></a></span></span></span><br />\n&nbsp\;<br />\n<span style="color:#789051\;"><span style="font-family:arial\,sans-serif\;">$35 each\; with a friend\, $30 each.&nbsp\;Sign up by Jan. 19.</span></span><br />\n&nbsp\;<br />\n<strong><em><span style="color:#789051\;"><span style="font-family:arial\,sans-serif\;"><span style="font-size:12.0pt\;">Dream it! Believe it! Do It!</span></span></span></em></strong>
LOCATION:
UID:e.518.32704
SEQUENCE:3
DTSTAMP:20260426T041940Z
URL:https://business.nvcoc.com/events/details/fearless-vision-board-party-32704
END:VEVENT

END:VCALENDAR
