BEGIN:VCALENDAR
VERSION:2.0
PRODID:-//ChamberMaster//Event Calendar 2.0//EN
METHOD:PUBLISH
X-PUBLISHED-TTL:P3D
REFRESH-INTERVAL:P3D
CALSCALE:GREGORIAN
BEGIN:VEVENT
DTSTART:20140429T120000Z
DTEND:20140429T133000Z
X-MICROSOFT-CDO-ALLDAYEVENT:FALSE
SUMMARY:Employee Assistance Programs: Their Evolving Role
DESCRIPTION:Nashoba Valley Chamber \n\nWorkplace Management Council\n\nSponsored by Holiday Inn Boxborough\n\n \n\nTopic: Employee Assistance Programs: Their Evolving Role\n\n\n\nIn this day of constant change\, competing home and work demands\, and pressure for continued efficiency\, employees need creative ways to make it all work. This program will discuss EAP best practices and the role EAPs can plan in supporting employee wellness and engagement initiatives.   Participants will discuss how to assess their organizations' needs and evaluate EAP services available in the market. \n\n \n\nAbout our guest speaker: Seth Moeller\, President\, KGA\, Inc.\n\n \n\nIn 2013 Seth became KGA's President.  He works closely with clients and prospective clients to ensure KGA's EAP\, HR Solutions and Wellness Services are aligned with strategic employee issues and organizational transformation. Seth's background is in organization development and talent management from financial services\, health care\, technology and consulting. Seth has a B.A. from the University of Vermont and an M.A. in Organizational Psychology from Columbia University.  \n\n\n\n4/23/14 - THIS JUST ADDED:  Groton Police Chief\, Donald Palma will join us and talk about Workplace Violence and how to handle it.
X-ALT-DESC;FMTTYPE=text/html:<p><br />\n<strong><span style="color: rgb(0\, 112\, 192)\;"><span style="font-family: calibri\,sans-serif\;"><span style="font-size: 15pt\;">Nashoba Valley Chamber </span></span></span></strong><br />\n<strong><span style="color: rgb(0\, 112\, 192)\;"><span style="font-family: calibri\,sans-serif\;"><span style="font-size: 15pt\;">Workplace Management Council</span></span></span></strong><br />\n<strong><span style="color: rgb(0\, 112\, 192)\;"><span style="font-family: calibri\,sans-serif\;"><span style="font-size: 15pt\;">Sponsored by Holiday Inn Boxborough</span></span></span></strong><br />\n&nbsp\;<br />\n<strong><span style="color: rgb(0\, 112\, 192)\;"><span style="font-family: calibri\,sans-serif\;"><span style="font-size: 15pt\;">Topic: Employee Assistance Programs: Their Evolving Role</span></span></span></strong><br />\n<br />\n<span style="color: rgb(0\, 112\, 192)\;"><span style="font-size: 13pt\;">In this day of constant change\, competing home and work demands\, and pressure for continued efficiency\, employees need creative ways to make it all work. This program will discuss EAP best practices and the role EAPs can plan in supporting employee wellness and engagement initiatives.&nbsp\;&nbsp\; Participants will discuss how to assess their organizations&rsquo\; needs and evaluate EAP services available in the market. </span></span><br />\n&nbsp\;<br />\n<strong><span style="color: rgb(0\, 112\, 192)\;"><span style="font-size: 15pt\;">About our guest speaker: Seth Moeller\, President\, KGA\, Inc.</span></span></strong><br />\n&nbsp\;<br />\n<span style="color: rgb(0\, 112\, 192)\;"><span style="font-size: 13pt\;">In 2013 Seth became KGA&rsquo\;s President.&nbsp\; He works closely with clients and prospective clients to ensure KGA&rsquo\;s EAP\, HR Solutions and Wellness Services are aligned with strategic employee issues and organizational transformation. Seth&rsquo\;s background is in organization development and talent management from financial services\, health care\, technology and consulting. Seth has a B.A. from the University of Vermont and an M.A. in Organizational Psychology from Columbia University.&#65279\;&nbsp\;</span></span><br />\n<br />\n<span style="color:#FF0000\;">4/23/14 - THIS JUST ADDED: &nbsp\;Groton Police Chief\, Donald Palma will join us and talk about Workplace Violence and how to handle it. &nbsp\;</span></p>\n
LOCATION:Nashoba Valley Chamber of Commerce 100 Sherman Ave.\, Devens MA
UID:e.518.16705
SEQUENCE:3
DTSTAMP:20260425T102635Z
URL:https://business.nvcoc.com/events/details/employee-assistance-programs-their-evolving-role-04-29-2014-16705
END:VEVENT

END:VCALENDAR
