BEGIN:VCALENDAR
VERSION:2.0
PRODID:-//ChamberMaster//Event Calendar 2.0//EN
METHOD:PUBLISH
X-PUBLISHED-TTL:P3D
REFRESH-INTERVAL:P3D
CALSCALE:GREGORIAN
BEGIN:VEVENT
DTSTART:20180109T130000Z
DTEND:20180109T140000Z
X-MICROSOFT-CDO-ALLDAYEVENT:FALSE
SUMMARY:Eggs* & Issues - January 2018
DESCRIPTION:1/8/18 - Event postponed.  More information to follow. \n\n\n\n\n\nNOTE:  Eggs unavailable at this time - hopefully you can still join us!  Please let us know!\n\n\n\n\n\nGuests:\n\n\n\nSteven Byrne\, Vice President of Beacon Strategies Group\, will join us to speak about a ballot initiative to impose government-mandated staffing ratios in every hospital across the state. \n\n\n\nRick Green\, Candidate for Congress
X-ALT-DESC;FMTTYPE=text/html:<em><span style="font-size:14px\;"><span style="color:#FF0000\;">1/8/18 - Event postponed.&nbsp\; More information to follow.&nbsp\;</span></span><br />\n<br />\n<br />\nNOTE:&nbsp\; Eggs unavailable at this time - hopefully you can still join us!&nbsp\; Please let us know!</em><br />\n<br />\n<br />\nGuests:<br />\n<br />\n<strong>Steven Byrne\, Vice President of Beacon Strategies Group\,</strong> will join us to speak about a ballot initiative to impose government-mandated staffing ratios in every hospital across the state.&nbsp\;<br />\n<br />\n<strong>Rick Green\, Candidate for Congress</strong><br />\n<br />\n<br />\n<br />\n<br />\n<br />\n&nbsp\;
LOCATION:Phoenix Park - Sampson Board Room Building D - 2nd Floor
UID:e.518.32647
SEQUENCE:3
DTSTAMP:20260426T042335Z
URL:https://business.nvcoc.com/events/details/eggs-issues-january-2018-32647
END:VEVENT

END:VCALENDAR
