BEGIN:VCALENDAR
VERSION:2.0
PRODID:-//ChamberMaster//Event Calendar 2.0//EN
METHOD:PUBLISH
X-PUBLISHED-TTL:P3D
REFRESH-INTERVAL:P3D
CALSCALE:GREGORIAN
BEGIN:VEVENT
DTSTART:20140416T113000Z
DTEND:20140416T140000Z
X-MICROSOFT-CDO-ALLDAYEVENT:FALSE
SUMMARY:Economic Forecast Breakfast
DESCRIPTION:3rd Annual Economic Forecast Breakfast\n\n \n\nTime: 7:30 a.m. Registration\n\n           8:00 am   Breakfast\n\n           8:30 am    Program\n\nCost: $25 per person\, $215 for table of 10\n\n(please note 10 attendees and you will automatically be billed for a table.)\n\nLocation: DoubleTree by Hilton\, Leominster\, MA\n\n\n\nFidelity Bank with the North Central Mass\,  Greater Gardner and Nashoba Valley Chambers of Commerce will present the 3rd Annual Economic Forecast Breakfast\n\n\n\nFeatured speakers will be Jeffrey Fuhrer\, Executive Vice President and Senior Policy Advisor at the Federal Reserve Bank of Boston\, Michael Goodman of UMass Dartmouth\, and Alex Lombardo\, Senior Vice President of Great Wolf Lodge.\n\n\n\nEd Manzi\, Jr.\, CEO of Fidelity Bank will moderate the forum and John Merrill\, president of Fidelity Bank\, will present the survey results. This event will focus on the economic outlook for the region and include results of a survey of local businesses on their perspectives and prospects for the future. The event will also include a panel discussion by local business and community leaders.
X-ALT-DESC;FMTTYPE=text/html:<p><br />\n<br />\n<span style="font-size:14px\;"><span style="font-family:tahoma\;"><strong>3rd&nbsp\;Annual Economic Forecast Breakfast</strong><br />\n&nbsp\;<br />\n<strong>Time: 7:30 a.m. Registration</strong><br />\n&nbsp\;&nbsp\;&nbsp\;&nbsp\;&nbsp\;&nbsp\;&nbsp\;&nbsp\;&nbsp\;&nbsp\;&nbsp\;<strong>8:00 am &nbsp\; Breakfast</strong><br />\n&nbsp\;&nbsp\;&nbsp\;&nbsp\;&nbsp\;&nbsp\;&nbsp\;&nbsp\;&nbsp\;<strong>&nbsp\; 8:30 am&nbsp\;&nbsp\;&nbsp\; Program</strong><br />\n<strong>Cost: $25 per person\, $215 for table of 10<br />\n(</strong><em>please note 10 attendees and you will automatically be billed for a table.</em><strong>)</strong><br />\n<strong>Location:</strong>&nbsp\;<strong>DoubleTree</strong>&nbsp\;<strong>by Hilton\, Leominster\, MA</strong><br />\n<br />\nFidelity Bank with the North Central Mass\, &nbsp\;Greater Gardner and&nbsp\;Nashoba&nbsp\;Valley Chambers of Commerce will present the&nbsp\;3rd&nbsp\;Annual Economic Forecast Breakfast<br />\n<br />\nFeatured speakers will be Jeffrey Fuhrer\, Executive Vice President and Senior Policy Advisor at the Federal Reserve Bank of Boston\, Michael Goodman of UMass Dartmouth\, and Alex&nbsp\;Lombardo\, Senior Vice President of Great Wolf Lodge.<br />\n<br />\nEd&nbsp\;Manzi\,&nbsp\;Jr.\, CEO of Fidelity Bank will moderate the forum and John Merrill\, president of Fidelity Bank\, will present the survey results. This event will focus on the economic outlook for the region and include results of a survey of local businesses on their perspectives and prospects for the future. The event will also include a panel discussion by local business and community leaders.&nbsp\;</span></span></p>\n
LOCATION:DoubleTree by Hilton 99 Erdman Way Leominster MA
UID:e.518.16639
SEQUENCE:3
DTSTAMP:20260425T102705Z
URL:https://business.nvcoc.com/events/details/economic-forecast-breakfast-04-16-2014-16639
END:VEVENT

END:VCALENDAR
