BEGIN:VCALENDAR
VERSION:2.0
PRODID:-//ChamberMaster//Event Calendar 2.0//EN
METHOD:PUBLISH
X-PUBLISHED-TTL:P3D
REFRESH-INTERVAL:P3D
CALSCALE:GREGORIAN
BEGIN:VEVENT
DTSTART:20150618T233000Z
DTEND:20150703T003000Z
X-MICROSOFT-CDO-ALLDAYEVENT:FALSE
SUMMARY:* Dog Obedience Level 2 (Roudenbush Community Center)
DESCRIPTION:Learn specific skills to meet your dog?s needs. Curriculum is tailored to individual questions and needs\, such as preparing for the Canine Good Citizen test. This class will focus on coming and going\, helping your dog to return to a specific place. For dogs of all ages. $73/$70\, 3 Thursdays\, June 18 to July 2\, 7:30 to 8:30 p.m.
X-ALT-DESC;FMTTYPE=text/html:Learn specific skills to meet your dog?s needs. Curriculum is tailored to individual questions and needs\, such as preparing for the Canine Good Citizen test. This class will focus on coming and going\, helping your dog to return to a specific place. For dogs of all ages. $73/$70\, 3 Thursdays\, June 18 to July 2\, 7:30 to 8:30 p.m.
LOCATION:Roudenbush Community Center\, 65 Main Street\, Westford\, MA
UID:e.518.21023
SEQUENCE:3
DTSTAMP:20260424T022507Z
URL:https://business.nvcoc.com/events/details/dog-obedience-level-2-roudenbush-community-center-06-18-2015-21023
END:VEVENT

END:VCALENDAR
