BEGIN:VCALENDAR
VERSION:2.0
PRODID:-//ChamberMaster//Event Calendar 2.0//EN
METHOD:PUBLISH
X-PUBLISHED-TTL:P3D
REFRESH-INTERVAL:P3D
CALSCALE:GREGORIAN
BEGIN:VEVENT
DTSTART:20150515T150000Z
DTEND:20150515T180000Z
X-MICROSOFT-CDO-ALLDAYEVENT:FALSE
SUMMARY:Devens Electric Car Event
DESCRIPTION:June 2: A Devens Electric Car Event will be held from 11 a.m.   2 p.m. at Rogers Field. This event is the first of its kind in Massachusetts. Join the fun for a free chance to test-drive electric cars!\n\nRSVP by Friday\, May 29 to Sheri Corbeil at scorbeil@massdevelopment.com
X-ALT-DESC;FMTTYPE=text/html:June 2: A Devens Electric Car Event will be held from 11 a.m. &ndash\; 2 p.m. at Rogers Field. This event is the first of its kind in Massachusetts. Join the fun for a free chance to test-drive electric cars!<br />\nRSVP by Friday\, May 29 to Sheri Corbeil at scorbeil@massdevelopment.com<br />\n&nbsp\;
LOCATION:
UID:e.518.20978
SEQUENCE:3
DTSTAMP:20260424T051456Z
URL:https://business.nvcoc.com/events/details/devens-electric-car-event-05-15-2015-20978
END:VEVENT

END:VCALENDAR
