BEGIN:VCALENDAR
VERSION:2.0
PRODID:-//ChamberMaster//Event Calendar 2.0//EN
METHOD:PUBLISH
X-PUBLISHED-TTL:P3D
REFRESH-INTERVAL:P3D
CALSCALE:GREGORIAN
BEGIN:VEVENT
DTSTART;VALUE=DATE:20180124
DTEND;VALUE=DATE:20180125
TRANSP:TRANSPARENT
X-MICROSOFT-CDO-ALLDAYEVENT:TRUE
SUMMARY:* Cooking Matters: Eat Healthier While Saving Money
DESCRIPTION:January 24\n\nCooking Matters: Eat Healthier While Saving Money \n\n10:00 - 11:00 am\n\nEarly Childhood Resource Center\n\n150 School St.\, Clinton\n\nLearn to recognize healthy food\, spend less time grocery shopping\, cook family-friendly meals\, plan easy & delicious meals\, and get a free gift card to Hannaford. Please register: 978-365-4160. This program is a part of Health Literacy at the Library.
X-ALT-DESC;FMTTYPE=text/html:<strong><span style="color:#080808\;"><span style="font-family:georgia\,serif\;"><span style="font-size:9.0pt\;">January 24</span></span></span></strong><br />\n<strong><span style="color:#080808\;"><span style="font-family:georgia\,serif\;"><span style="font-size:9.0pt\;"><strong>Cooking Matters: Eat Healthier While Saving Money </strong></span></span></span></strong><br />\n<span style="color:#080808\;"><span style="font-family:georgia\,serif\;"><span style="font-size:9.0pt\;">10:00 - 11:00 am<br />\nEarly Childhood Resource Center<br />\n150 School St.\, Clinton<br />\nLearn to recognize healthy food\, spend less time grocery shopping\, cook family-friendly meals\, plan easy &amp\; delicious meals\, and get a free gift card to Hannaford.&nbsp\;Please register: 978-365-4160. This program is a part of Health Literacy at the Library.</span></span></span><br />\n&nbsp\;
LOCATION:
UID:e.518.32726
SEQUENCE:3
DTSTAMP:20260426T042613Z
URL:https://business.nvcoc.com/events/details/cooking-matters-eat-healthier-while-saving-money-32726
END:VEVENT

END:VCALENDAR
