BEGIN:VCALENDAR
VERSION:2.0
PRODID:-//ChamberMaster//Event Calendar 2.0//EN
METHOD:PUBLISH
X-PUBLISHED-TTL:P3D
REFRESH-INTERVAL:P3D
CALSCALE:GREGORIAN
BEGIN:VEVENT
DTSTART:20131106T223000Z
DTEND:20131107T020000Z
X-MICROSOFT-CDO-ALLDAYEVENT:FALSE
SUMMARY:Community Service & Leadership Awards Ceremony 2013
DESCRIPTION:The Nashoba Valley Chamber of Commerce will host its annual Community Service & Leadership Awards (CSLA) event on Wednesday\, November 6\, 2013. The event will be held at the Holiday Inn Boxborough. \n\nAward categories are as follows:\n\nOutstanding Citizen/Volunteer   named for the late Robert W. Lewis\, the award is given to an individual who has advanced the community significantly by his or her contribution of time\, talent and efforts. \n\nThe 2013 winners are Deb LaPointe (Leominster) ~ Jodie Rachman (Shirley) ~ Dick Conway (Pepperell)\n\n \n\nOutstanding Company/Organization Award   named for the late Roy L. Jeannotte\, it is given to a company or organization that has made a substantial contribution to the lasting enhancement of the Nashoba Valley Region by demonstrating exceptional leadership and community involvement.\n\nThe 2013 winners are RiverCourt Residences (Groton)\n\n \n\nOutstanding Business & Professional Person Award   Given to a business or professional person who through extraordinary effort in his/her chosen field has contributed significantly to the Nashoba Valley Region.\n\nThe 2013 winners are Savas Danos/Littleton Electric Light & Water (Littleton)\n\n \n\nFestivities will begin at 5:30 PM and will include a cash bar and entertainment. Dinner and program to begin at 6:30 PM. \n\n \n\nThe sponsors this year include Parker Hannifin\, Rollstone Bank & Trust\, SunnyD/Veryfine and MassDevelopment.
X-ALT-DESC;FMTTYPE=text/html:<div style="margin: 0in 0in 0pt\;">\n<p><strong><span style="font-family: franklin gothic book\,sans-serif\;"><span style="font-size: 14pt\;">The&nbsp\;Nashoba&nbsp\;Valley Chamber of Commerce will host its annual Community Service &amp\; Leadership Awards (CSLA) event on Wednesday\, November 6\, 2013.&nbsp\;The event will be held at the Holiday Inn&nbsp\;Boxborough.&nbsp\;</span></span></strong><br />\n<strong><span style="font-family: franklin gothic book\,sans-serif\;"><span style="font-size: 14pt\;">Award categories are as follows:</span></span></strong><br />\n<strong><span style="font-family: franklin gothic book\,sans-serif\;"><span style="font-size: 14pt\;">Outstanding Citizen/Volunteer</span></span></strong><span style="font-family: franklin gothic book\,sans-serif\;"><span style="font-size: 14pt\;">&nbsp\;&ndash\; named for the late Robert W. Lewis\, the award is given to an individual who has advanced the community significantly by his or her contribution of time\, talent and efforts.&nbsp\;</span></span><br />\n<strong><span style="color: navy\;"><span style="font-family: franklin gothic book\,sans-serif\;"><span style="font-size: 14pt\;">The 2013 winners are Deb LaPointe (Leominster) ~ Jodie Rachman (Shirley) ~ Dick Conway (Pepperell)</span></span></span></strong><br />\n&nbsp\;<br />\n<strong><span style="font-family: franklin gothic book\,sans-serif\;"><span style="font-size: 14pt\;">Outstanding Company/Organization Award</span></span></strong><span style="font-family: franklin gothic book\,sans-serif\;"><span style="font-size: 14pt\;">&nbsp\;&ndash\; named for the late Roy L.&nbsp\;Jeannotte\, it is given to a company or organization that has made a substantial contribution to the lasting enhancement of the&nbsp\;Nashoba&nbsp\;Valley Region by demonstrating exceptional leadership and community involvement.</span></span><br />\n<strong><span style="color: navy\;"><span style="font-family: franklin gothic book\,sans-serif\;"><span style="font-size: 14pt\;">The 2013 winners are&nbsp\;RiverCourt Residences (Groton)</span></span></span></strong><br />\n&nbsp\;<br />\n<strong><span style="font-family: franklin gothic book\,sans-serif\;"><span style="font-size: 14pt\;">Outstanding Business &amp\; Professional Person Award</span></span></strong><span style="font-family: franklin gothic book\,sans-serif\;"><span style="font-size: 14pt\;">&nbsp\;&ndash\; Given to a business or professional person who through extraordinary effort in his/her chosen field has contributed significantly to the Nashoba Valley Region.</span></span><br />\n<strong><span style="color: navy\;"><span style="font-family: franklin gothic book\,sans-serif\;"><span style="font-size: 14pt\;">The 2013 winners are&nbsp\;Savas Danos/Littleton Electric Light &amp\; Water (Littleton)</span></span></span></strong><br />\n&nbsp\;<br />\n<span style="font-family: franklin gothic book\,sans-serif\;"><span style="font-size: 14pt\;">Festivities will begin at&nbsp\;5:30 PM&nbsp\;and will include a cash bar and entertainment.&nbsp\;Dinner and program to begin at&nbsp\;6:30 PM.&nbsp\;</span></span><br />\n&nbsp\;<br />\n<span style="font-family: franklin gothic book\,sans-serif\;"><span style="font-size: 14pt\;">The sponsors this year include<strong>&nbsp\;Parker Hannifin\,&nbsp\;Rollstone&nbsp\;Bank &amp\; Trust\, SunnyD/Veryfine and&nbsp\;MassDevelopment.</strong></span></span><br />\n&nbsp\;</p>\n</div>\n
LOCATION:Holiday Inn Boxborough 242 Adams Place Boxborough
UID:e.518.15148
SEQUENCE:3
DTSTAMP:20260426T024120Z
URL:https://business.nvcoc.com/events/details/community-service-leadership-awards-ceremony-2013-11-06-2013-15148
END:VEVENT

END:VCALENDAR
