BEGIN:VCALENDAR
VERSION:2.0
PRODID:-//ChamberMaster//Event Calendar 2.0//EN
METHOD:PUBLISH
X-PUBLISHED-TTL:P3D
REFRESH-INTERVAL:P3D
CALSCALE:GREGORIAN
BEGIN:VEVENT
DTSTART:20140109T140000Z
DTEND:20140109T170000Z
X-MICROSOFT-CDO-ALLDAYEVENT:FALSE
SUMMARY:Coffee Connections - Quickbooks Basics with David Dube\, CPA
DESCRIPTION:Join us to learn about the Basics of Quickbooks on Thursday\, January 9th. \n\n \n\nDavid Dube\, CPA from Dube & Hazelwood\, P.C. will review getting around in Quickbooks\, Working with the Chart of Accounts\, Setting Up New Customers and Vendors\, Customer Transactions: Invoices\, and Customer Payments\, Vendor Transactions: Bills\, and Pay Bills\, Reconciliation of bank accounts and Introduction to Financial Reports (Profit & Loss\, Balance Sheet and \n\nAccounts Receivable and Accounts Payable Reports)\n\n\n\n\n\nRSVP at 978-772-6976\, Mikayla@nvcoc.com\, or online at www.nvcoc.com.
X-ALT-DESC;FMTTYPE=text/html:<span style="font-size: 15pt\;">Join us to learn about the Basics of Quickbooks on Thursday\,&nbsp\;January&nbsp\;9th. </span><br />\n&nbsp\;<br />\n<span style="font-size: 15pt\;">David Dube\, CPA from Dube &amp\; Hazelwood\, P.C. will review getting around in </span>Quickbooks<span style="font-size: 15pt\;">\, Working with the Chart of Accounts\, Setting Up New Customers and Vendors\, Customer Transactions: Invoices\, and Customer Payments\, Vendor Transactions: Bills\, and Pay Bills\, Reconciliation of bank accounts and Introduction to Financial Reports (Profit &amp\; Loss\, Balance Sheet and&nbsp\;</span><br />\n<span style="font-size: 15pt\;">Accounts Receivable and Accounts Payable Reports)</span><br />\n<br />\n<br />\n<span style="font-size: 15pt\;">RSVP at 978-772-6976\, Mikayla@nvcoc.com\, or online at www.nvcoc.com.</span><br />\n
LOCATION:NVCoC Offices 100 Sherman Ave Devens MA 01434
UID:e.518.15266
SEQUENCE:3
DTSTAMP:20260425T170513Z
URL:https://business.nvcoc.com/events/details/coffee-connections-quickbooks-basics-with-david-dube-cpa-01-09-2014-15266
END:VEVENT

END:VCALENDAR
