BEGIN:VCALENDAR
VERSION:2.0
PRODID:-//ChamberMaster//Event Calendar 2.0//EN
METHOD:PUBLISH
X-PUBLISHED-TTL:P3D
REFRESH-INTERVAL:P3D
CALSCALE:GREGORIAN
BEGIN:VEVENT
DTSTART:20140408T120000Z
DTEND:20140408T131500Z
X-MICROSOFT-CDO-ALLDAYEVENT:FALSE
SUMMARY:Chamber Referral - 04/08/2014
DESCRIPTION:Chamber Referral Network is an optional program for those who are willing to commit their time and energy to a structured networking/referral group.
X-ALT-DESC;FMTTYPE=text/html:<div><em>Chamber Referral Network is an optional program for those who are willing to commit their time and energy to a structured networking/referral group.&nbsp\;</em></div>\n\n<div><em>&nbsp\;</em><em>&nbsp\;</em></div>\n<br />\n<div>&nbsp\;</div>\n<br />\n&nbsp\;
LOCATION:Nashoba Valley Chamber of Commerce 100 Sherman Ave Devens MA
UID:e.518.16700
SEQUENCE:3
DTSTAMP:20260425T102829Z
URL:https://business.nvcoc.com/events/details/chamber-referral-04-08-2014-04-08-2014-16700
END:VEVENT

END:VCALENDAR
