BEGIN:VCALENDAR
VERSION:2.0
PRODID:-//ChamberMaster//Event Calendar 2.0//EN
METHOD:PUBLISH
X-PUBLISHED-TTL:P3D
REFRESH-INTERVAL:P3D
CALSCALE:GREGORIAN
BEGIN:VEVENT
DTSTART:20140225T130000Z
DTEND:20140225T141500Z
X-MICROSOFT-CDO-ALLDAYEVENT:FALSE
SUMMARY:Chamber Referral - 02/25/2014
DESCRIPTION:Chamber Referral Network is an optional program for those who are willing to commit their time and energy to a structured networking/referral group. \n\n	  \n\n\nTentatively\n\n10 Minute Presentation - Mike Roux\, SPS Strategic Payment Systems\n\nEducational Minute - Jeff Schwarz\, ISS
X-ALT-DESC;FMTTYPE=text/html:<div>\n	<em>Chamber Referral Network is an optional program for those who are willing to commit their time and energy to a structured networking/referral group.&nbsp\;</em></div>\n<div>\n	<em>&nbsp\;</em><em>&nbsp\;</em></div>\n<br />\nTentatively<br />\n10 Minute Presentation - Mike Roux\, SPS&nbsp\;Strategic Payment Systems<br />\nEducational Minute - Jeff Schwarz\, ISS<br />\n<br />\n<div>\n	&nbsp\;</div>\n<br />\n<br />\n
LOCATION:Nashoba Valley Chamber of Commerce 100 Sherman Ave Devens MA
UID:e.518.16136
SEQUENCE:3
DTSTAMP:20260425T155033Z
URL:https://business.nvcoc.com/events/details/chamber-referral-02-25-2014-02-25-2014-16136
END:VEVENT

END:VCALENDAR
