BEGIN:VCALENDAR
VERSION:2.0
PRODID:-//ChamberMaster//Event Calendar 2.0//EN
METHOD:PUBLISH
X-PUBLISHED-TTL:P3D
REFRESH-INTERVAL:P3D
CALSCALE:GREGORIAN
BEGIN:VEVENT
DTSTART:20180115T210000Z
DTEND:20180115T223000Z
X-MICROSOFT-CDO-ALLDAYEVENT:FALSE
SUMMARY:* Caregiver Support Group (Bridges by EPOCH at Westford)
DESCRIPTION:Join us for Dinner and get the support you need from dementia care professionals and other caregivers who understand your challenges and concerns. Bring your loved one to enjoy dinner and an activity with our life enrichment team during the session.
X-ALT-DESC;FMTTYPE=text/html:Join us for Dinner and get the support you need from dementia care professionals and other caregivers who understand your challenges and concerns. Bring your loved one to enjoy dinner and an activity with our life enrichment team during the session.
LOCATION:Bridges by EPOCH at Westford 108 Littleton Road Westford MA 01886
UID:e.518.32637
SEQUENCE:3
DTSTAMP:20260426T042712Z
URL:https://business.nvcoc.com/events/details/caregiver-support-group-bridges-by-epoch-at-westford-32637
END:VEVENT

END:VCALENDAR
