BEGIN:VCALENDAR
VERSION:2.0
PRODID:-//ChamberMaster//Event Calendar 2.0//EN
METHOD:PUBLISH
X-PUBLISHED-TTL:P3D
REFRESH-INTERVAL:P3D
CALSCALE:GREGORIAN
BEGIN:VEVENT
DTSTART:20141215T210000Z
DTEND:20141215T220000Z
X-MICROSOFT-CDO-ALLDAYEVENT:FALSE
SUMMARY:CA$H Mob - Westford (Wild Birds Unlimited of Westford)
DESCRIPTION:Are you ready to $pread a little fun?\n\n\n\nJoin us for some holiday shopping at Wild Birds Unlimited of Westford from 4pm to 5pm (they close at 6pm).  \n\n\n\nYou've heard of a FLASH mob\, right??  It?s when a group of people show up at a specified time to a specific location\, to do a choreographed song or dance...  we want to do just that (minus the required dancing and singing). And add in the ca$h!\n\n \n\nWe ASK that attendees spend $5 (or more!) - Though it is not required.  You can just join in on the fun with us!   Register today...\nMake sure to get your Punch Card stamped so that you can enter to win some great prizes!
X-ALT-DESC;FMTTYPE=text/html:<h3><br />\n<strong><em><span style="font-family:berlin sans fb demi\,sans-serif\;"><span style="font-size:18pt\;">Are you ready to&nbsp\;$pread&nbsp\;a little fun?</span></span></em></strong><br />\n<br />\nJoin us for some holiday shopping at Wild Birds Unlimited of Westford&nbsp\;from 4pm to 5pm (they close at 6pm). &nbsp\;<br />\n<br />\n<span style="font-size:12px\;"><strong><em><span style="color:#40ad48\;"><span style="font-family:arial\,sans-serif\;">You&#39\;ve heard of a FLASH mob\, right??&nbsp\; It?s when a group of people show up at a specified time to a specific&nbsp\;location\, to do a choreographed song or dance...&nbsp\; we want to do just that (minus the required dancing and singing). And add in the ca$h!</span></span></em></strong><br />\n&nbsp\;<br />\n<strong><em><span style="color:#40ad48\;"><span style="font-family:arial\,sans-serif\;">We ASK that attendees spend $5 (or more!) - Though it is not&nbsp\;required.&nbsp\; You can just join in on the fun with us!&nbsp\;&nbsp\; Register today...</span></span></em></strong></span></h3>\n<strong><span style="color:#FF0000\;">Make sure to get your Punch Card stamped so that you can enter to win some great prizes!</span></strong><br />\n<br />\n<br />\n&nbsp\;
LOCATION:Wild Birds Unlimited of Westford
UID:e.518.18641
SEQUENCE:3
DTSTAMP:20260424T190151Z
URL:https://business.nvcoc.com/events/details/ca-h-mob-westford-wild-birds-unlimited-of-westford-12-15-2014-18641
END:VEVENT

END:VCALENDAR
