BEGIN:VCALENDAR
VERSION:2.0
PRODID:-//ChamberMaster//Event Calendar 2.0//EN
METHOD:PUBLISH
X-PUBLISHED-TTL:P3D
REFRESH-INTERVAL:P3D
CALSCALE:GREGORIAN
BEGIN:VEVENT
DTSTART:20150528T121000Z
DTEND:20150528T123000Z
X-MICROSOFT-CDO-ALLDAYEVENT:FALSE
SUMMARY:Business Buzz on WPKZ Radio - GPHomestay
DESCRIPTION:Listen in on the Chamber's Radio Show -- Business Buzz\n\n\n\nEvery other Thursday on the Daily Pulse with Travis \n\nof WPKZ 105.3FM / AM 1280\n\n\n\nToday's special guest is GPHomestay
X-ALT-DESC;FMTTYPE=text/html:<h2><br />\n<span style="font-size:14px\;"><span style="font-family:tahoma\;">Listen in on the Chamber&#39\;s Radio Show --&nbsp\;Business Buzz<br />\n<br />\nEvery other Thursday&nbsp\;on the Daily Pulse with&nbsp\;Travis&nbsp\;<br />\nof&nbsp\;WPKZ&nbsp\;105.3FM / AM 1280<br />\n<br />\nToday&#39\;s special guest is GPHomestay</span></span></h2>\n<br />\n<br />\n<br />\n<br />\n<br />\n<br />\n<br />\n<br />\n&nbsp\;
LOCATION:
UID:e.518.20976
SEQUENCE:3
DTSTAMP:20260424T035152Z
URL:https://business.nvcoc.com/events/details/business-buzz-on-wpkz-radio-gphomestay-05-28-2015-20976
END:VEVENT

END:VCALENDAR
