BEGIN:VCALENDAR
VERSION:2.0
PRODID:-//ChamberMaster//Event Calendar 2.0//EN
METHOD:PUBLISH
X-PUBLISHED-TTL:P3D
REFRESH-INTERVAL:P3D
CALSCALE:GREGORIAN
BEGIN:VEVENT
DTSTART:20180104T131000Z
DTEND:20180104T133000Z
X-MICROSOFT-CDO-ALLDAYEVENT:FALSE
SUMMARY:Business Buzz on WPKZ Radio - Animal Adventures
DESCRIPTION:Listen in on the Chamber's Radio Show -- Business Buzz\n\n\n\nEvery other Thursday on the Daily Pulse with Travis of WPKZ 105.3FM / AM 1280\n\n\n\nSponsored by Torkeu Tractor\n\n\n\nToday's special guest is Animal Adventures
X-ALT-DESC;FMTTYPE=text/html:<h2><br />\n<span style="font-size:14px\;"><span style="font-family:tahoma\;">Listen in on the Chamber&#39\;s Radio Show --&nbsp\;Business Buzz<br />\n<br />\nEvery other Thursday&nbsp\;on the Daily Pulse with&nbsp\;Travis&nbsp\;of&nbsp\;WPKZ&nbsp\;105.3FM / AM 1280<br />\n<br />\nSponsored by Torkeu Tractor<br />\n<br />\nToday&#39\;s special guest is Animal Adventures</span></span></h2>\n<br />\n&nbsp\;
LOCATION:
UID:e.518.32654
SEQUENCE:3
DTSTAMP:20260426T043011Z
URL:https://business.nvcoc.com/events/details/business-buzz-on-wpkz-radio-animal-adventures-32654
END:VEVENT

END:VCALENDAR
