BEGIN:VCALENDAR
VERSION:2.0
PRODID:-//ChamberMaster//Event Calendar 2.0//EN
METHOD:PUBLISH
X-PUBLISHED-TTL:P3D
REFRESH-INTERVAL:P3D
CALSCALE:GREGORIAN
BEGIN:VEVENT
DTSTART:20141015T213000Z
DTEND:20141015T233000Z
X-MICROSOFT-CDO-ALLDAYEVENT:FALSE
SUMMARY:Business After Hours @ Maugel Architects
DESCRIPTION:Join Nashoba Valley area professionals in a comfortable\, relaxed setting for a great networking event at Maugel Architects in Harvard.\n\n\n\nOur Business After Hours is our most popular networking event - be sure to bring plenty of business cards and your best smile!
X-ALT-DESC;FMTTYPE=text/html:<br />\nJoin Nashoba Valley area professionals in a comfortable\, relaxed setting for a great networking event at Maugel Architects in Harvard.<br />\n<br />\nOur Business After Hours is our most popular networking event - be sure to bring plenty of business cards and your best smile!<br />\n<br />\n<br />\n&nbsp\;
LOCATION:Maugel Architects 200 Ayer Road Harvard MA 01450
UID:e.518.18089
SEQUENCE:3
DTSTAMP:20260424T231656Z
URL:https://business.nvcoc.com/events/details/business-after-hours-maugel-architects-10-15-2014-18089
END:VEVENT

END:VCALENDAR
