BEGIN:VCALENDAR
VERSION:2.0
PRODID:-//ChamberMaster//Event Calendar 2.0//EN
METHOD:PUBLISH
X-PUBLISHED-TTL:P3D
REFRESH-INTERVAL:P3D
CALSCALE:GREGORIAN
BEGIN:VEVENT
DTSTART:20150408T213000Z
DTEND:20150408T233000Z
X-MICROSOFT-CDO-ALLDAYEVENT:FALSE
SUMMARY:Business After Hours at Simple Man Saloon
DESCRIPTION:Join Nashoba Valley area professionals in a comfortable\, relaxed setting for a great networking event at Simple Man Saloon!\n\n\n\nSimple Man Saloon is quite the happening place... Tex-Mex Mondays\, Musical Bingo Wednesdays\, Team Trivia Thursdays\, Live Entertainment on the weekends\, and more.. This is a great opportunity to learn more.  \n\n\n\nMake sure to bring plenty of business cards for networking too! \n\n\n\n\n\nConsider staying for the After After Hours...  \n\nMusical Bingo starts at 7:30pm\n\nYou've got to ask yourself one question: 'Do I feel lucky?'
X-ALT-DESC;FMTTYPE=text/html:Join Nashoba Valley area professionals in a comfortable\,&nbsp\;relaxed setting for a great networking event at&nbsp\;Simple Man Saloon!<br />\n<br />\nSimple Man Saloon is quite the happening place... Tex-Mex&nbsp\;Mondays\, Musical Bingo&nbsp\;Wednesdays\, Team Trivia&nbsp\;Thursdays\, Live Entertainment on the weekends\, and more.. This is a great opportunity to learn more. &nbsp\;<br />\n<br />\nMake sure to bring plenty of&nbsp\;business cards for networking too!&nbsp\;<br />\n<br />\n<br />\n<strong>Consider staying for the After After Hours... &nbsp\;</strong><br />\nMusical Bingo starts at 7:30pm<br />\nYou&rsquo\;ve got to ask&nbsp\;yourself one question: <em>&lsquo\;Do I feel lucky?&rsquo\;&nbsp\;</em>
LOCATION:Simple Man Saloon 119 High Street Clinton
UID:e.518.20591
SEQUENCE:3
DTSTAMP:20260424T051829Z
URL:https://business.nvcoc.com/events/details/business-after-hours-at-simple-man-saloon-04-08-2015-20591
END:VEVENT

END:VCALENDAR
