BEGIN:VCALENDAR
VERSION:2.0
PRODID:-//ChamberMaster//Event Calendar 2.0//EN
METHOD:PUBLISH
X-PUBLISHED-TTL:P3D
REFRESH-INTERVAL:P3D
CALSCALE:GREGORIAN
BEGIN:VEVENT
DTSTART:20140430T113000Z
DTEND:20140430T130000Z
X-MICROSOFT-CDO-ALLDAYEVENT:FALSE
SUMMARY:Bolton Business Gathering
DESCRIPTION:Bolton Business Gathering\n\n \n\nSponsored by\n\nBolton Economic Development Committee\, \n\nBolton Capital Group and \n\nNashoba Valley Chamber of Commerce\n\n \n\nWednesday\, April 30\, 2014\n\nBolton Capital Group\n\n7:30am - 8:30am\n\n \n\nJoin us on Wednesday\, April 30th to learn about the history\, renovations\, and insights gained from Ray Grenier of Bolton Capital Group.  Light breakfast will be provided by Slater's.  Event to end with a tour of the Bolton Capital Group building.\n\n \n\nA goal of the Bolton Economic Development Committee and the State is to encourage economic development.  We wish to form a working partnership with the business community while preserving Bolton's charm.\n\n \n\nOpen to Bolton Businesses Limited Seating   Please RSVP\n\n978-772-6976\n\nmelissa@nvcoc.com
X-ALT-DESC;FMTTYPE=text/html:<br />\n<span style="font-family: garamond\,serif\;"><span style="font-size: 14pt\;">Bolton Business Gathering</span></span><br />\n&nbsp\;<br />\n<span style="font-family: garamond\,serif\;"><span style="font-size: 14pt\;">Sponsored by</span></span><br />\n<span style="font-family: garamond\,serif\;"><span style="font-size: 14pt\;">Bolton Economic Development Committee\,&nbsp\;</span></span><br />\n<span style="font-family: garamond\,serif\;"><span style="font-size: 14pt\;">Bolton Capital Group and&nbsp\;</span></span><br />\n<span style="font-family: garamond\,serif\;"><span style="font-size: 14pt\;">Nashoba&nbsp\;Valley Chamber of Commerce</span></span><br />\n&nbsp\;<br />\n<span style="font-family: garamond\,serif\;"><span style="font-size: 14pt\;">Wednesday\, April 30\, 2014</span></span><br />\n<span style="font-family: garamond\,serif\;"><span style="font-size: 14pt\;">Bolton Capital Group</span></span><br />\n<span style="font-family: garamond\,serif\;"><span style="font-size: 14pt\;">7:30am - 8:30am</span></span><br />\n&nbsp\;<br />\n<span style="font-family: garamond\,serif\;"><span style="font-size: 14pt\;">Join us on Wednesday\, April 30th to learn about the history\, renovations\, and insights gained from Ray Grenier of Bolton Capital Group.&nbsp\; Light breakfast will be provided by Slater&rsquo\;s.&nbsp\; Event to end with a tour of the Bolton Capital Group building.</span></span><br />\n&nbsp\;<br />\n<span style="font-family: garamond\,serif\;"><span style="font-size: 14pt\;">A goal of the Bolton Economic Development Committee and the State is to encourage economic development.&nbsp\; We wish to form a working partnership with the business community while preserving Bolton&rsquo\;s charm.</span></span><br />\n&nbsp\;<br />\n<span style="font-family: garamond\,serif\;"><span style="font-size: 14pt\;">Open to Bolton Businesses Limited Seating &bull\; Please RSVP</span></span><br />\n<span style="font-family: garamond\,serif\;"><span style="font-size: 14pt\;">978-772-6976</span></span><br />\n<span style="font-family: garamond\,serif\;"><span style="font-size: 14pt\;"><a href="mailto:melissa@nvcoc.com">melissa@nvcoc.com</a></span></span><br />\n&nbsp\;
LOCATION:
UID:e.518.16738
SEQUENCE:3
DTSTAMP:20260425T102849Z
URL:https://business.nvcoc.com/events/details/bolton-business-gathering-04-30-2014-16738
END:VEVENT

END:VCALENDAR
