BEGIN:VCALENDAR
VERSION:2.0
PRODID:-//ChamberMaster//Event Calendar 2.0//EN
METHOD:PUBLISH
X-PUBLISHED-TTL:P3D
REFRESH-INTERVAL:P3D
CALSCALE:GREGORIAN
BEGIN:VEVENT
DTSTART:20150429T113000Z
DTEND:20150429T130000Z
X-MICROSOFT-CDO-ALLDAYEVENT:FALSE
SUMMARY:Bolton Business Gathering
DESCRIPTION:Bolton Business Gathering\n\n \n\nSponsored by\n\nBolton Economic Development Committee\n\nand Nashoba Valley Chamber of Commerce\n\n \n\nWednesday\, April 29\, 2015\n\nThe International\n\nThe Fire Place Room\n\n159 Ballville Rd\, Bolton\, MA\n\n7:30am - 9am\n\n \n\nFeatured Guest Speaker: Paul F. Matthews\, Executive Director\, \n\n495/MetroWest Partnership\, 495/MetroWest Regional Economic Report\n\n \n\nAdditional guest speakers: Bolton EDC\; The International\; Erica Uriarte\, Bolton Town Planner\; the Nashoba Valley Chamber of Commerce\; Bolton Town Common Update\n\n \n\nLight breakfast provided\n\n \n\nOpen to Bolton Businesses Limited Seating ? Please RSVP\n\n978-772-6976\n\nmelissa@nvcoc.com
X-ALT-DESC;FMTTYPE=text/html:<strong><span style="font-family:garamond\,serif\;"><span style="font-size:13pt\;">Bolton Business Gathering</span></span></strong><br>\n<span style="font-family:garamond\,serif\;"><span style="font-size:13pt\;">&nbsp\;<br>\n<strong><span style="font-family:garamond\,serif\;">Sponsored by</span></strong></span><br>\n<strong><span style="font-family:garamond\,serif\;">Bolton Economic Development Committee</span></strong></span><br>\n<strong><span style="font-family:garamond\,serif\;">and&nbsp\;</span></strong><strong>Nashoba</strong><strong><span style="font-family:garamond\,serif\;">&nbsp\;Valley Chamber of Commerce</span></strong><br>\n&nbsp\;<br>\n<strong><span style="font-family:garamond\,serif\;">Wednesday\, April 29\, 2015</span></strong><br>\n<strong><span style="font-family:garamond\,serif\;">The International</span></strong><br>\n<span style="font-family:garamond\,serif\;"><span style="font-size:13pt\;">The Fire Place Room</span></span><br>\n<span style="font-family:garamond\,serif\;"><span style="font-size:13pt\;">159&nbsp\;Ballville</span></span>&nbsp\;Rd\, Bolton\, MA<br>\n<span style="font-family:garamond\,serif\;"><span style="font-size:13pt\;">7:30am&nbsp\;- 9am</span></span><br>\n&nbsp\;<br>\n<strong><span style="font-family:garamond\,serif\;"><span style="font-size:13.0pt\;">Featured Guest Speaker: Paul F. Matthews\, Executive Director\, </span></span></strong><br>\n<strong><span style="font-family:garamond\,serif\;"><span style="font-size:13.0pt\;">495/MetroWest Partnership\, </span></span></strong><span style="font-family:garamond\,serif\;"><span style="font-size:13.0pt\;">495/MetroWest Regional Economic Report</span></span><br>\n&nbsp\;<br>\n<span style="font-family:garamond\,serif\;"><span style="font-size:13.0pt\;">Additional guest speakers: <strong>Bolton EDC\; The International</strong>\; Erica Uriarte\, <strong>Bolton Town Planner</strong>\; the <strong>Nashoba Valley Chamber of Commerce</strong>\; <strong>Bolton Town Common </strong>Update</span></span><br>\n&nbsp\;<br>\n<span style="font-family:garamond\,serif\;"><span style="font-size:13.0pt\;">Light breakfast provided</span></span><br>\n&nbsp\;<br>\n<span style="font-family:garamond\,serif\;"><span style="font-size:13pt\;">Open to Bolton Businesses Limited Seating ? Please RSVP</span></span><br>\n<span style="font-family:garamond\,serif\;"><span style="font-size:13pt\;">978-772-6976</span></span><br>\n<span style="font-family:garamond\,serif\;"><span style="font-size:13pt\;"><a href="mailto:melissa@nvcoc.com">melissa@nvcoc.com</a></span></span>
LOCATION:The International The Fire Place Room 159 Ballville Rd\, Bolton\, MA
UID:e.518.20058
SEQUENCE:3
DTSTAMP:20260424T051611Z
URL:https://business.nvcoc.com/events/details/bolton-business-gathering-04-29-2015-20058
END:VEVENT

END:VCALENDAR
