BEGIN:VCALENDAR
VERSION:2.0
PRODID:-//ChamberMaster//Event Calendar 2.0//EN
METHOD:PUBLISH
X-PUBLISHED-TTL:P3D
REFRESH-INTERVAL:P3D
CALSCALE:GREGORIAN
BEGIN:VEVENT
DTSTART;VALUE=DATE:20160430
DTEND;VALUE=DATE:20160501
TRANSP:TRANSPARENT
X-MICROSOFT-CDO-ALLDAYEVENT:TRUE
SUMMARY:* Beginning Gymnastics -Clinton
DESCRIPTION:Beginning Gymnastics\n\n\n\nKnucklebones? Gymnastics offers a unique twist for your beginning gymnast. Using age appropriate equipment and fun techniques\, your child will gain creative and rhythmic movement\, flexibility\, fundamental gymnastics and gross motor skills. Exploring various apparatus including beams\, rings\, mats\, mat shapes (cylinder\, wedges\, humps\, etc)\, spring board\, and trampolines\, your child will progress with introductory skills while having fun!\n\n\n\nDates: Saturdays April 2nd - May 7th Time:\n\nSession 1: 8:30am-9:15am\; Session 2: 9:30am-10:15am\n\nCost: $86.00 per person for the 6 week session\n\nAges: Session 1: 2-3 years old\; Session 2: 4-6 years old\n\nLocation: Clinton Parks and Recreation Department
X-ALT-DESC;FMTTYPE=text/html:<br>\nBeginning Gymnastics<br>\n<br>\nKnucklebones? Gymnastics offers a unique twist for your beginning gymnast. Using age appropriate equipment and fun techniques\, your child will gain creative and rhythmic movement\, flexibility\, fundamental gymnastics and gross motor skills. Exploring various apparatus including beams\, rings\, mats\, mat shapes (cylinder\, wedges\, humps\, etc)\, spring board\, and trampolines\, your child will progress with introductory skills while having fun!<br>\n<br>\nDates: Saturdays April 2nd - May 7th Time:<br>\nSession 1: 8:30am-9:15am\; Session 2: 9:30am-10:15am<br>\nCost: $86.00 per person for the 6 week session<br>\nAges: Session 1: 2-3 years old\; Session 2: 4-6 years old<br>\nLocation: Clinton Parks and Recreation Department
LOCATION:
UID:e.518.26155
SEQUENCE:3
DTSTAMP:20260421T081126Z
URL:https://business.nvcoc.com/events/details/beginning-gymnastics-clinton-04-30-2016-26155
END:VEVENT

END:VCALENDAR
