BEGIN:VCALENDAR
VERSION:2.0
PRODID:-//ChamberMaster//Event Calendar 2.0//EN
METHOD:PUBLISH
X-PUBLISHED-TTL:P3D
REFRESH-INTERVAL:P3D
CALSCALE:GREGORIAN
BEGIN:VEVENT
DTSTART:20150618T223000Z
DTEND:20150730T233000Z
X-MICROSOFT-CDO-ALLDAYEVENT:FALSE
SUMMARY:* Beginner Dog Obedience Level 1 (Roudenbush Community Center)
DESCRIPTION:Start your dog on the path to better manners\, stronger attention and a deeper relationship with you. Using positive reinforcement\, we introduce basic cues such as sit\, down\, hand targeting\, stay\, come and loose leash walking. For dogs of all ages. $138/$135\, 6 Thursdays\, June 18 to July 30\, Except 7/16\, 6:30 to 7:30 p.m.
X-ALT-DESC;FMTTYPE=text/html:Start your dog on the path to better manners\, stronger attention and a deeper relationship with you. Using positive reinforcement\, we introduce basic cues such as sit\, down\, hand targeting\, stay\, come and loose leash walking. For dogs of all ages. $138/$135\, 6 Thursdays\, June 18 to July 30\, Except 7/16\, 6:30 to 7:30 p.m.
LOCATION:Roudenbush Community Center
UID:e.518.21022
SEQUENCE:3
DTSTAMP:20260424T022451Z
URL:https://business.nvcoc.com/events/details/beginner-dog-obedience-level-1-roudenbush-community-center-06-18-2015-21022
END:VEVENT

END:VCALENDAR
