BEGIN:VCALENDAR
VERSION:2.0
PRODID:-//ChamberMaster//Event Calendar 2.0//EN
METHOD:PUBLISH
X-PUBLISHED-TTL:P3D
REFRESH-INTERVAL:P3D
CALSCALE:GREGORIAN
BEGIN:VEVENT
DTSTART;VALUE=DATE:20150618
DTEND;VALUE=DATE:20150619
TRANSP:TRANSPARENT
X-MICROSOFT-CDO-ALLDAYEVENT:TRUE
SUMMARY:Beacon Hill Day 2015
DESCRIPTION:Thursday\, June 18\, 2015\n\n \n\nJoin us for a day on Beacon Hill where you will have the opportunity to hear from the Senators and Representatives from the Nashoba Valley Delegation. \n\n \n\nThis is an opportunity for you to voice your opinions\, ideas and concerns during the day's formal session and social events!\n\n \n\nLimited seating - Please let Melissa (Melissa@Nvcoc.com) know if you are interested in joining us.\n\n \n\n \n\n \n\nDay's agenda to include:\n\n  Depart Devens (8am)\n\n  Meetings at State House with delegation\n\n  Lunch on Beacon Hill at Union Club\n\n  Additional meetings at State House\n\n  Depart State House (3pm)\n\n  Social Event (Optional)\n\n\n\n\n\nMeeting Schedule (Subject to change):\n\n\n	10am              Meeting with Rep. Jennifer Benson (or Staff)\n	1015am         Meeting with Senator Jennifer Flanagan's Staff\n	1030am         Meeting with Representative Hank Naughton's Staff\n	1045am         Meeting with Senator Eileen Donoghue's Staff\n	11am              Meeting with Senator Jamie Eldrige\n	11:15am        Meeting with Representative Sheila Harrington's Staff\n	11:30am        Meeting with Representative James Arciero\n	Noon              Depart for lunch at the Union Club\n	12:30pm        Lunch with Nam Pham\, Assistant Secretary for Housing and Economic Development\n	1pm               Lunch Speaker Rob Garrity - Chief of Staff of the Massachusetts DOT\n	1:30pm           Lunch Speaker - Elizabeth Mahoney - Governor Baker's Policy Director\n	215pm            Tour of the Governor's Office
X-ALT-DESC;FMTTYPE=text/html:<span style="background-image:initial\;background-attachment:initial\;background-size:initial\;background-origin:initial\;background-clip:initial\;background-position:initial\;background-repeat:initial\;"><span style="font-family:times new roman\,serif\;"><span style="font-size:13pt\;">Thursday\, June 18\, 2015</span></span></span><br />\n<span style="font-family:times new roman\,serif\;"><span style="font-size:13pt\;">&nbsp\;<br />\n<span style="background-image:initial\;background-attachment:initial\;background-size:initial\;background-origin:initial\;background-clip:initial\;background-position:initial\;background-repeat:initial\;">Join us for&nbsp\;a day on Beacon Hill where you will have the opportunity to hear from the&nbsp\;Senators and Representatives from the&nbsp\;</span><span data-scayt-word="Nashoba" style="background-position:50% 100%\;">Nashoba</span></span>&nbsp\;<span style="background-image:initial\;background-attachment:initial\;background-size:initial\;background-origin:initial\;background-clip:initial\;background-position:initial\;background-repeat:initial\;">Valley Delegation.&nbsp\;</span></span><br />\n&nbsp\;<br />\n<span style="background-image:initial\;background-attachment:initial\;background-size:initial\;background-origin:initial\;background-clip:initial\;background-position:initial\;background-repeat:initial\;">This is an opportunity for you to voice your opinions\, ideas and concerns during the day&rsquo\;s formal session and social events!</span><br />\n&nbsp\;<br />\n<span style="background-image:initial\;background-attachment:initial\;background-size:initial\;background-origin:initial\;background-clip:initial\;background-position:initial\;background-repeat:initial\;">Limited seating - Please let Melissa (Melissa@Nvcoc.com) know if you are interested in joining us.</span><br />\n&nbsp\;<br />\n&nbsp\;<br />\n&nbsp\;<br />\n<span style="background-image:initial\;background-attachment:initial\;background-size:initial\;background-origin:initial\;background-clip:initial\;background-position:initial\;background-repeat:initial\;">Day&rsquo\;s agenda to include:</span><br />\n<span style="background-image:initial\;background-attachment:initial\;background-size:initial\;background-origin:initial\;background-clip:initial\;background-position:initial\;background-repeat:initial\;">&bull\; Depart&nbsp\;</span><span data-scayt-word="Devens" style="background-position:50% 100%\;">Devens</span>&nbsp\;<span style="background-image:initial\;background-attachment:initial\;background-size:initial\;background-origin:initial\;background-clip:initial\;background-position:initial\;background-repeat:initial\;">(8am)</span><br />\n<span style="background-image:initial\;background-attachment:initial\;background-size:initial\;background-origin:initial\;background-clip:initial\;background-position:initial\;background-repeat:initial\;">&bull\; Meetings at State House with delegation</span><br />\n<span style="background-image:initial\;background-attachment:initial\;background-size:initial\;background-origin:initial\;background-clip:initial\;background-position:initial\;background-repeat:initial\;">&bull\; Lunch on Beacon Hill at Union Club</span><br />\n<span style="background-image:initial\;background-attachment:initial\;background-size:initial\;background-origin:initial\;background-clip:initial\;background-position:initial\;background-repeat:initial\;">&bull\; Additional meetings at State House</span><br />\n<span style="background-image:initial\;background-attachment:initial\;background-size:initial\;background-origin:initial\;background-clip:initial\;background-position:initial\;background-repeat:initial\;">&bull\; Depart State House (3pm)</span><br />\n&bull\;&nbsp\;Social Event (Optional)<br />\n<br />\n<br />\nMeeting Schedule (<em>Subject to change</em>):\n\n<ul>\n	<li><span style="font-family:times new roman\,serif\;"><span style="font-size:13pt\;">10am</span></span><span style="background-image:initial\;background-attachment:initial\;background-size:initial\;background-origin:initial\;background-clip:initial\;background-position:initial\;background-repeat:initial\;"><span style="font-family:times new roman\,serif\;"><span style="font-size:13pt\;">&nbsp\;&nbsp\;&nbsp\;&nbsp\; &nbsp\;&nbsp\;&nbsp\;&nbsp\;&nbsp\;&nbsp\;&nbsp\;&nbsp\; Meeting with Rep. Jennifer Benson (or Staff)</span></span></span></li>\n	<li><span style="font-family:times new roman\,serif\;"><span style="font-size:13pt\;">1015am</span></span><span style="background-image:initial\;background-attachment:initial\;background-size:initial\;background-origin:initial\;background-clip:initial\;background-position:initial\;background-repeat:initial\;"><span style="font-family:times new roman\,serif\;"><span style="font-size:13pt\;">&nbsp\;&nbsp\;&nbsp\;&nbsp\;&nbsp\;&nbsp\;&nbsp\;&nbsp\;&nbsp\;Meeting with Senator Jennifer Flanagan</span></span></span><span style="font-family:times new roman\,serif\;"><span style="font-size:13pt\;">&#39\;<span style="background-image:initial\;background-attachment:initial\;background-size:initial\;background-origin:initial\;background-clip:initial\;background-position:initial\;background-repeat:initial\;">s Staff</span></span></span></li>\n	<li><span style="font-family:times new roman\,serif\;"><span style="font-size:13pt\;">1030am</span></span><span style="background-image:initial\;background-attachment:initial\;background-size:initial\;background-origin:initial\;background-clip:initial\;background-position:initial\;background-repeat:initial\;"><span style="font-family:times new roman\,serif\;"><span style="font-size:13pt\;">&nbsp\;&nbsp\;&nbsp\;&nbsp\;&nbsp\;&nbsp\;&nbsp\;&nbsp\;&nbsp\;Meeting with Representative Hank&nbsp\;</span></span></span><span style="font-family:times new roman\,serif\;"><span style="font-size:13pt\;"><span data-scayt-word="Naughton's" style="background-position:50% 100%\;">Naughton&#39\;s</span></span></span>&nbsp\;<span style="background-image:initial\;background-attachment:initial\;background-size:initial\;background-origin:initial\;background-clip:initial\;background-position:initial\;background-repeat:initial\;"><span style="font-family:times new roman\,serif\;"><span style="font-size:13pt\;">Staff</span></span></span></li>\n	<li><span style="font-family:times new roman\,serif\;"><span style="font-size:13pt\;">1045am</span></span><span style="background-image:initial\;background-attachment:initial\;background-size:initial\;background-origin:initial\;background-clip:initial\;background-position:initial\;background-repeat:initial\;"><span style="font-family:times new roman\,serif\;"><span style="font-size:13pt\;">&nbsp\;&nbsp\;&nbsp\;&nbsp\;&nbsp\;&nbsp\;&nbsp\;&nbsp\;&nbsp\;Meeting with Senator Eileen&nbsp\;</span></span></span><span style="font-family:times new roman\,serif\;"><span style="font-size:13pt\;"><span data-scayt-word="Donoghue's" style="background-position:50% 100%\;">Donoghue&#39\;s</span></span></span>&nbsp\;<span style="background-image:initial\;background-attachment:initial\;background-size:initial\;background-origin:initial\;background-clip:initial\;background-position:initial\;background-repeat:initial\;"><span style="font-family:times new roman\,serif\;"><span style="font-size:13pt\;">Staff</span></span></span></li>\n	<li><span style="font-family:times new roman\,serif\;"><span style="font-size:13pt\;">11am</span></span><span style="background-image:initial\;background-attachment:initial\;background-size:initial\;background-origin:initial\;background-clip:initial\;background-position:initial\;background-repeat:initial\;"><span style="font-family:times new roman\,serif\;"><span style="font-size:13pt\;">&nbsp\;&nbsp\;&nbsp\;&nbsp\; &nbsp\;&nbsp\;&nbsp\;&nbsp\;&nbsp\;&nbsp\;&nbsp\;&nbsp\; Meeting with Senator Jamie&nbsp\;</span></span></span><span style="font-family:times new roman\,serif\;"><span style="font-size:13pt\;"><span data-scayt-word="Eldrige" style="background-position:50% 100%\;">Eldrige</span></span></span></li>\n	<li><span style="background-image:initial\;background-attachment:initial\;background-size:initial\;background-origin:initial\;background-clip:initial\;background-position:initial\;background-repeat:initial\;"><span style="font-family:times new roman\,serif\;"><span style="font-size:13pt\;">11:</span></span></span><span style="font-family:times new roman\,serif\;"><span style="font-size:13pt\;"><span data-scayt-word="15am" style="background-position:50% 100%\;">15am</span></span></span><span style="background-image:initial\;background-attachment:initial\;background-size:initial\;background-origin:initial\;background-clip:initial\;background-position:initial\;background-repeat:initial\;"><span style="font-family:times new roman\,serif\;"><span style="font-size:13pt\;">&nbsp\;&nbsp\;&nbsp\;&nbsp\;&nbsp\;&nbsp\;&nbsp\;&nbsp\;Meeting with Representative Sheila Harrington</span></span></span><span style="font-family:times new roman\,serif\;"><span style="font-size:13pt\;">&#39\;<span style="background-image:initial\;background-attachment:initial\;background-size:initial\;background-origin:initial\;background-clip:initial\;background-position:initial\;background-repeat:initial\;">s Staff</span></span></span></li>\n	<li><span style="background-image:initial\;background-attachment:initial\;background-size:initial\;background-origin:initial\;background-clip:initial\;background-position:initial\;background-repeat:initial\;"><span style="font-family:times new roman\,serif\;"><span style="font-size:13pt\;">11:</span></span></span><span style="font-family:times new roman\,serif\;"><span style="font-size:13pt\;"><span data-scayt-word="30am" style="background-position:50% 100%\;">30am</span></span></span><span style="background-image:initial\;background-attachment:initial\;background-size:initial\;background-origin:initial\;background-clip:initial\;background-position:initial\;background-repeat:initial\;"><span style="font-family:times new roman\,serif\;"><span style="font-size:13pt\;">&nbsp\;&nbsp\;&nbsp\;&nbsp\;&nbsp\;&nbsp\;&nbsp\;&nbsp\;Meeting with Representative James&nbsp\;</span></span></span><span style="font-family:times new roman\,serif\;"><span style="font-size:13pt\;"><span data-scayt-word="Arciero" style="background-position:50% 100%\;">Arciero</span></span></span></li>\n	<li><span style="background-image:initial\;background-attachment:initial\;background-size:initial\;background-origin:initial\;background-clip:initial\;background-position:initial\;background-repeat:initial\;"><span style="font-family:times new roman\,serif\;"><span style="font-size:13pt\;">Noon&nbsp\;&nbsp\;&nbsp\;&nbsp\; &nbsp\;&nbsp\;&nbsp\;&nbsp\;&nbsp\;&nbsp\;&nbsp\;&nbsp\; Depart for lunch at the Union Club</span></span></span></li>\n	<li><span style="background-image:initial\;background-attachment:initial\;background-size:initial\;background-origin:initial\;background-clip:initial\;background-position:initial\;background-repeat:initial\;"><span style="font-family:times new roman\,serif\;"><span style="font-size:13pt\;">12:</span></span></span><span style="font-family:times new roman\,serif\;"><span style="font-size:13pt\;"><span data-scayt-word="30pm" style="background-position:50% 100%\;">30pm</span></span></span><span style="background-image:initial\;background-attachment:initial\;background-size:initial\;background-origin:initial\;background-clip:initial\;background-position:initial\;background-repeat:initial\;"><span style="font-family:times new roman\,serif\;"><span style="font-size:13pt\;">&nbsp\;&nbsp\;&nbsp\;&nbsp\;&nbsp\;&nbsp\;&nbsp\;&nbsp\;Lunch with Nam Pham\, Assistant Secretary for Housing and Economic Development</span></span></span></li>\n	<li><span style="background-image:initial\;background-attachment:initial\;background-size:initial\;background-origin:initial\;background-clip:initial\;background-position:initial\;background-repeat:initial\;"><span style="font-family:times new roman\,serif\;"><span style="font-size:13pt\;">1pm&nbsp\;&nbsp\;&nbsp\;&nbsp\;&nbsp\;&nbsp\;&nbsp\;&nbsp\;&nbsp\;&nbsp\;&nbsp\;&nbsp\;&nbsp\;&nbsp\;&nbsp\;Lunch Speaker </span></span></span><span style="font-family:times new roman\,serif\;"><span style="font-size:13.0pt\;">Rob Garrity - Chief of Staff of the Massachusetts DOT</span></span></li>\n	<li><span style="background-image:initial\;background-attachment:initial\;background-size:initial\;background-origin:initial\;background-clip:initial\;background-position:initial\;background-repeat:initial\;"><span style="font-family:times new roman\,serif\;"><span style="font-size:13pt\;">1:</span></span></span><span style="font-family:times new roman\,serif\;"><span style="font-size:13pt\;"><span data-scayt-word="30pm" style="background-position:50% 100%\;">30pm</span></span></span>&nbsp\;&nbsp\;&nbsp\;&nbsp\;&nbsp\;&nbsp\;&nbsp\;&nbsp\;&nbsp\;&nbsp\; <span style="background-image:initial\;background-attachment:initial\;background-size:initial\;background-origin:initial\;background-clip:initial\;background-position:initial\;background-repeat:initial\;"><span style="font-family:times new roman\,serif\;"><span style="font-size:13pt\;">Lunch Speaker - Elizabeth Mahoney - Governor Baker&rsquo\;s Policy Director</span></span></span></li>\n	<li><span style="font-family:times new roman\,serif\;"><span style="font-size:13pt\;">215pm</span></span><span style="background-image:initial\;background-attachment:initial\;background-size:initial\;background-origin:initial\;background-clip:initial\;background-position:initial\;background-repeat:initial\;"><span style="font-family:times new roman\,serif\;"><span style="font-size:13pt\;">&nbsp\; &nbsp\;&nbsp\;&nbsp\;&nbsp\;&nbsp\;&nbsp\;&nbsp\;&nbsp\;&nbsp\; Tour of the Governor</span></span></span><span style="font-family:times new roman\,serif\;"><span style="font-size:13pt\;">&#39\;<span style="background-image:initial\;background-attachment:initial\;background-size:initial\;background-origin:initial\;background-clip:initial\;background-position:initial\;background-repeat:initial\;">s Office</span></span></span></li>\n</ul>\n<br />\n&nbsp\;
LOCATION:
UID:e.518.20989
SEQUENCE:3
DTSTAMP:20260424T051456Z
URL:https://business.nvcoc.com/events/details/beacon-hill-day-2015-06-18-2015-20989
END:VEVENT

END:VCALENDAR
