BEGIN:VCALENDAR
VERSION:2.0
PRODID:-//ChamberMaster//Event Calendar 2.0//EN
METHOD:PUBLISH
X-PUBLISHED-TTL:P3D
REFRESH-INTERVAL:P3D
CALSCALE:GREGORIAN
BEGIN:VEVENT
DTSTART;VALUE=DATE:20180120
DTEND;VALUE=DATE:20180121
TRANSP:TRANSPARENT
X-MICROSOFT-CDO-ALLDAYEVENT:TRUE
SUMMARY:* Basic Handgun Safety Class
DESCRIPTION:The Shirley Police Department will be hosting a basic handgun safety class on Saturday January 20\, 2018 at the Shirley Police Station. Registration is from 8:45am-9:00am\, the class will run from 9:00am-1:00pm. Any questions or if you want to register for the class please contact Officer Joseph Santiago at 978-425-2642 extension 44 or via email at jsantiago@shirley-mapd.org
X-ALT-DESC;FMTTYPE=text/html:<span style="font-family: Lato\, sans-serif\; font-size: 16px\;">The Shirley Police Department will be hosting a basic handgun safety class on Saturday January 20\, 2018 at the Shirley Police Station. Registration is from 8:45am-9:00am\, the class will run from 9:00am-1:00pm. Any questions or if you want to register for the class please contact Officer Joseph Santiago at 978-425-2642 extension 44 or via email at jsantiago@shirley-mapd.org</span>
LOCATION:
UID:e.518.32663
SEQUENCE:3
DTSTAMP:20260426T042335Z
URL:https://business.nvcoc.com/events/details/basic-handgun-safety-class-32663
END:VEVENT

END:VCALENDAR
