BEGIN:VCALENDAR
VERSION:2.0
PRODID:-//ChamberMaster//Event Calendar 2.0//EN
METHOD:PUBLISH
X-PUBLISHED-TTL:P3D
REFRESH-INTERVAL:P3D
CALSCALE:GREGORIAN
BEGIN:VEVENT
DTSTART;VALUE=DATE:20150509
DTEND;VALUE=DATE:20150510
TRANSP:TRANSPARENT
X-MICROSOFT-CDO-ALLDAYEVENT:TRUE
SUMMARY:Ayer Rotary - Apple Blossom Vendor
DESCRIPTION:Ayer Rotary Club\n\n63rd Annual Apple Blossom Festival\n\n(and Ducky Wucky River Race)\n\n\n\nSaturday\, May 9\, 2015\n\n1 Still River Road\, Route 111\n\nHarvard MA 01451\n\n\n\nCost for vendors is $65.00 ($10 discount if registered and paid before 2/13/15). \n\nEvent is rain or shine.  No refunds - no rain date or indoor alternative location.\n\n\n\nContact Melissa at 978-772-6976 or email director@nvcoc.com to register.
X-ALT-DESC;FMTTYPE=text/html:<br />\nAyer Rotary Club<br />\n63rd Annual Apple Blossom Festival<br />\n(and Ducky Wucky River Race)<br />\n<br />\nSaturday\, May 9\, 2015<br />\n1 Still River Road\, Route 111<br />\nHarvard MA 01451<br />\n<br />\nCost for vendors is $65.00 ($10 discount if registered and paid before 2/13/15).&nbsp\;<br />\nEvent is rain or shine. &nbsp\;No refunds - no rain date or indoor alternative location.<br />\n<br />\nContact Melissa at 978-772-6976 or email director@nvcoc.com to register.&nbsp\;<br />\n<br />\n&nbsp\;
LOCATION:
UID:e.518.19358
SEQUENCE:3
DTSTAMP:20260424T035018Z
URL:https://business.nvcoc.com/events/details/ayer-rotary-apple-blossom-vendor-05-09-2015-19358
END:VEVENT

END:VCALENDAR
