BEGIN:VCALENDAR
VERSION:2.0
PRODID:-//ChamberMaster//Event Calendar 2.0//EN
METHOD:PUBLISH
X-PUBLISHED-TTL:P3D
REFRESH-INTERVAL:P3D
CALSCALE:GREGORIAN
BEGIN:VEVENT
DTSTART;VALUE=DATE:20180125
DTEND;VALUE=DATE:20180126
TRANSP:TRANSPARENT
X-MICROSOFT-CDO-ALLDAYEVENT:TRUE
SUMMARY:* Ask the Attorney: 'Life Planning'
DESCRIPTION:Westford: Ask the Attorney: 'Life Planning'\n\nThursday\, Jan. 25\n\n5 to 6 p.m.\n\n\n\nBridges  by EPOCH at Westford\n\n108 Littleton Road\n\nWestford\, MA 01886\n\n\n\nRSVP required - https://reply2.wufoo.com/forms/mcmy3tv04yrzc7/
X-ALT-DESC;FMTTYPE=text/html:<h2 style="font-size: 20.8px\; margin: 0px 0px 5px\; clear: left\; font-family: &quot\;Lucida Grande&quot\;\, &quot\;Lucida Sans Unicode&quot\;\, Tahoma\, sans-serif\; color: rgb(0\, 0\, 0)\; letter-spacing: 0.13px\;">Westford: Ask the Attorney: &#39\;Life Planning&#39\;</h2>\n\n<div style="font-size: 12.35px\; line-height: 16.6725px\; color: rgb(68\, 68\, 68)\; font-family: &quot\;Lucida Grande&quot\;\, &quot\;Lucida Sans Unicode&quot\;\, Tahoma\, sans-serif\; letter-spacing: 0.13px\;">Thursday\, Jan. 25<br />\n5 to 6 p.m.<br />\n<br />\nBridges&reg\; by EPOCH at Westford<br />\n108 Littleton Road<br />\nWestford\, MA 01886<br />\n<br />\nRSVP required -&nbsp\;https://reply2.wufoo.com/forms/mcmy3tv04yrzc7/<br />\n&nbsp\;</div>\n
LOCATION:
UID:e.518.32717
SEQUENCE:3
DTSTAMP:20260426T042811Z
URL:https://business.nvcoc.com/events/details/ask-the-attorney-life-planning-32717
END:VEVENT

END:VCALENDAR
