BEGIN:VCALENDAR
VERSION:2.0
PRODID:-//ChamberMaster//Event Calendar 2.0//EN
METHOD:PUBLISH
X-PUBLISHED-TTL:P3D
REFRESH-INTERVAL:P3D
CALSCALE:GREGORIAN
BEGIN:VEVENT
DTSTART;VALUE=DATE:20180129
DTEND;VALUE=DATE:20180130
TRANSP:TRANSPARENT
X-MICROSOFT-CDO-ALLDAYEVENT:TRUE
SUMMARY:* 10-Day Group Cleanse (Groton Wellness)
DESCRIPTION:January 29 @ 6:00 pm - 7:30 pm\n| $99\n\n\nEvent Navigation\n\n\n\n\nSELF CARE . CLEAN FOOD . HEALTHY BODY . HAPPY NEW YEAR\n\n \n\n \n\nMeeting Dates (All from 6-7:30 pm)\n\nMONDAY JAN. 29 | THURSDAY FEB. 1 | MONDAY FEB. 5 | THURSDAY FEB. 8\n\nLed by Jean Nordin-Evans\, DDS\, IBDM\, ND & Heather Stickney\, Program Development & Provider Support\n\nStay healthy this winter with a whole food-based\, 10-Day Group Cleansethat supports your body and boosts your health through natural detoxification. This Cleanse allows all systems to rest\, restores your innate ability to maintain good health\, increases energy\, and enhances your appearance.\n\nIncludes\n\n\n	Advice before your cleanse to prepare you for shopping & easier detoxification\n	10 days of professional\, customized support from our Groton Wellness Functional Medicine Team\n	Easy-to-make\, delicious\, recipes\, email tips\, mindfulness practices\, journaling & self-reflection\n	Create new habits\, remove cravings\, & improve clarity\, all while losing weight naturally\n	Guest speakers at each of your 4 in-person meetings\n\n\n \n\nDetoxification Support (Optional)\n\nSpecial For Cleanse Participants\n\nIt is important to remove toxins from your body naturally. Choose any of these detoxification services & receive 15% OFF initial appointment fee.\n\n\n	Detoxifying Therapeutic Clay Bath ~ Now Only $69.70 (call to schedule)\n	Colon Hydrotherapy ~ Now Only $91.80 (call to schedule)\n	Constitutional Hydrotherapy ~ Now Only $115.60 (call to schedule)\n	Kick-Start with a 2-Day Clean-Eating Cooler-To-Go ~ Add $99\n\n	(optional online order with your cleanse)\n\n	Must book & receive service by 2.9.18 Space is limited.\n\n\nTestimonial\n\nUse of real food\, not products! The pace is excellent and a great sense of community. Take a chance and step into a wonderful new world! You will be well supported at every step of the way. And the results are unbelievable.\n\n~ Priscilla W.\n\n \n\nSpace is Limited. Pre-registration required. Non-refundable.  \n\n\n\nhttps://www.grotonwellness.com/event/10-day-group-cleanse/
X-ALT-DESC;FMTTYPE=text/html:<div class="tribe-events-schedule tribe-clearfix" style="box-sizing: border-box\; margin: 20px 0px 0px\; padding: 0px\; border: 0px\; font-variant-numeric: inherit\; font-variant-east-asian: inherit\; font-stretch: inherit\; font-size: 20px\; line-height: inherit\; font-family: source-sans-pro\, sans-serif\; vertical-align: baseline\; zoom: 1\; color: rgb(88\, 98\, 136)\;">\n<h3 style="box-sizing: border-box\; margin: 0px\; padding: 0px\; border: 0px\; font-variant: inherit\; font-weight: 600\; font-stretch: inherit\; font-size: 1.2em\; line-height: 1\; vertical-align: middle\; color: rgb(33\, 64\, 154)\; display: inline-block\; white-space: nowrap\; zoom: 1\;"><span class="tribe-event-date-start" style="box-sizing: border-box\; margin: 0px\; padding: 0px\; border: 0px\; font-style: inherit\; font-variant: inherit\; font-weight: inherit\; font-stretch: inherit\; font-size: inherit\; line-height: inherit\; font-family: inherit\; vertical-align: baseline\;">January 29 @ 6:00 pm</span>&nbsp\;-&nbsp\;<span class="tribe-event-time" style="box-sizing: border-box\; margin: 0px\; padding: 0px\; border: 0px\; font-style: inherit\; font-variant: inherit\; font-weight: inherit\; font-stretch: inherit\; font-size: inherit\; line-height: inherit\; font-family: inherit\; vertical-align: baseline\;">7:30 pm</span></h3>\n<span class="tribe-events-divider" style="box-sizing: border-box\; margin: 0px\; padding: 0px\; border: 0px\; font-style: inherit\; font-variant: inherit\; font-weight: inherit\; font-stretch: inherit\; font-size: 1.2em\; line-height: inherit\; font-family: inherit\; vertical-align: baseline\;">|</span>&nbsp\;<span class="tribe-events-cost" style="box-sizing: border-box\; margin: 0px\; padding: 0px\; border: 0px\; font-style: inherit\; font-variant: inherit\; font-weight: 600\; font-stretch: inherit\; font-size: 1.2em\; line-height: inherit\; font-family: inherit\; vertical-align: middle\; color: rgb(140\, 184\, 97)\;">$99</span></div>\n\n<div data-default-mobile-view="list" data-default-view="list" data-title="10-Day Group Cleanse ? Groton Wellness" id="tribe-events-header" style="box-sizing: border-box\; margin: 1em 0px 20px\; padding: 0px\; border: 0px\; font-variant-numeric: inherit\; font-variant-east-asian: inherit\; font-stretch: inherit\; font-size: 20px\; line-height: inherit\; font-family: source-sans-pro\, sans-serif\; vertical-align: baseline\; clear: both\; position: relative\; color: rgb(88\, 98\, 136)\;">\n<h3 class="tribe-events-visuallyhidden" style="box-sizing: border-box\; margin: -1px\; padding: 0px\; border: 0px\; font-variant: inherit\; font-weight: 600\; font-stretch: inherit\; font-size: 30px\; line-height: 1\; vertical-align: baseline\; color: rgb(33\, 64\, 154)\; clip: rect(0px 0px 0px 0px)\; height: 1px\; overflow: hidden\; position: absolute\; width: 1px\;">Event Navigation</h3>\n</div>\n\n<div class="post-10755 tribe_events type-tribe_events status-publish has-post-thumbnail hentry tag-10-day-cleanse tag-clean-eating tag-functional-medicine-providers tag-group-cleanse tag-in-person-support tag-natural-weight-loss tag-nutritional-cleanse tag-self-care tribe_events_cat-cleanses tribe_events_cat-community-support tribe_events_cat-cooking-classes tribe_events_cat-environmental-toxicity tribe_events_cat-featured tribe_events_cat-food-as-medicine tribe_events_cat-group-healing-programs tribe_events_cat-health-coach tribe_events_cat-holistic tribe_events_cat-medicine tribe_events_cat-men tribe_events_cat-nutrition-and-wellness tribe_events_cat-social tribe_events_cat-teen tribe_events_cat-wellness tribe_events_cat-women cat_cleanses cat_community-support cat_cooking-classes cat_environmental-toxicity cat_featured cat_food-as-medicine cat_group-healing-programs cat_health-coach cat_holistic cat_medicine cat_men cat_nutrition-and-wellness cat_social cat_teen cat_wellness cat_women" id="post-10755" style="box-sizing: border-box\; margin: 0px\; padding: 0px\; border: 0px\; font-variant-numeric: inherit\; font-variant-east-asian: inherit\; font-stretch: inherit\; font-size: 20px\; line-height: inherit\; font-family: source-sans-pro\, sans-serif\; vertical-align: baseline\; color: rgb(88\, 98\, 136)\;">\n<div class="tribe-events-single-event-description tribe-events-content" style="box-sizing: border-box\; margin: 0px\; padding: 0px\; border: 0px\; font-style: inherit\; font-variant: inherit\; font-weight: inherit\; font-stretch: inherit\; font-size: inherit\; line-height: inherit\; font-family: inherit\; vertical-align: baseline\; max-width: 100%\; width: 619.094px\;">\n<h4 style="box-sizing: border-box\; margin: 0px\; padding: 0px\; border: 0px\; font-variant: inherit\; font-weight: 600\; font-stretch: inherit\; font-size: 24px\; line-height: 1\; vertical-align: baseline\; color: rgb(140\, 184\, 97)\;">SELF CARE . CLEAN FOOD . HEALTHY BODY . HAPPY NEW YEAR</h4>\n\n<p style="box-sizing: border-box\; margin: 0px 0px 10px\; padding: 0px\; border: 0px\; font-variant: inherit\; font-stretch: inherit\; line-height: 1.7\; vertical-align: baseline\;">&nbsp\;</p>\n\n<h3 style="box-sizing: border-box\; margin: 0px 0px 10px\; padding: 0px\; border: 0px\; font-variant: inherit\; font-weight: 600\; font-stretch: inherit\; font-size: 30px\; line-height: 1\; vertical-align: baseline\; color: rgb(33\, 64\, 154)\;">&nbsp\;</h3>\n\n<p style="box-sizing: border-box\; margin: 0px 0px 10px\; padding: 0px\; border: 0px\; font-variant: inherit\; font-stretch: inherit\; line-height: 1.7\; vertical-align: baseline\;"><span style="box-sizing: border-box\; margin: 0px\; padding: 0px\; border: 0px\; font-style: inherit\; font-variant: inherit\; font-weight: 600\; font-stretch: inherit\; font-size: inherit\; line-height: inherit\; font-family: inherit\; vertical-align: baseline\;">Meeting Dates (All from 6-7:30 pm)</span><br style="box-sizing: border-box\;" />\n<span style="box-sizing: border-box\; margin: 0px\; padding: 0px\; border: 0px\; font-style: inherit\; font-variant: inherit\; font-weight: 600\; font-stretch: inherit\; font-size: inherit\; line-height: inherit\; font-family: inherit\; vertical-align: baseline\;">MONDAY JAN. 29 | THURSDAY FEB. 1 | MONDAY FEB. 5 | THURSDAY FEB. 8</span></p>\n\n<p style="box-sizing: border-box\; margin: 0px 0px 10px\; padding: 0px\; border: 0px\; font-variant: inherit\; font-stretch: inherit\; line-height: 1.7\; vertical-align: baseline\;"><span style="box-sizing: border-box\; margin: 0px\; padding: 0px\; border: 0px\; font-style: inherit\; font-variant: inherit\; font-weight: 600\; font-stretch: inherit\; font-size: inherit\; line-height: inherit\; font-family: inherit\; vertical-align: baseline\;">Led by Jean Nordin-Evans\, DDS\, IBDM\, ND &amp\; Heather Stickney\, Program Development &amp\; Provider Support</span></p>\n\n<p style="box-sizing: border-box\; margin: 0px 0px 10px\; padding: 0px\; border: 0px\; font-variant: inherit\; font-stretch: inherit\; line-height: 1.7\; vertical-align: baseline\;">Stay healthy this winter with a whole food-based\,&nbsp\;<span style="box-sizing: border-box\; margin: 0px\; padding: 0px\; border: 0px\; font-style: inherit\; font-variant: inherit\; font-weight: 600\; font-stretch: inherit\; font-size: inherit\; line-height: inherit\; font-family: inherit\; vertical-align: baseline\;">10-Day Group </span><span style="box-sizing: border-box\; margin: 0px\; padding: 0px\; border: 0px\; font-style: inherit\; font-variant: inherit\; font-weight: 600\; font-stretch: inherit\; font-size: inherit\; line-height: inherit\; font-family: inherit\; vertical-align: baseline\;">Cleanse</span>that&nbsp\;<span style="box-sizing: border-box\; margin: 0px\; padding: 0px\; border: 0px\; font-style: inherit\; font-variant: inherit\; font-weight: 600\; font-stretch: inherit\; font-size: inherit\; line-height: inherit\; font-family: inherit\; vertical-align: baseline\;">supports your body and boosts your health through natural detoxification</span>. This Cleanse allows&nbsp\;<span style="box-sizing: border-box\; margin: 0px\; padding: 0px\; border: 0px\; font-style: inherit\; font-variant: inherit\; font-weight: 600\; font-stretch: inherit\; font-size: inherit\; line-height: inherit\; font-family: inherit\; vertical-align: baseline\;">all systems to rest\, restores your innate ability to maintain good health\, increases energy\, and enhances your appearance.</span></p>\n\n<h4 style="box-sizing: border-box\; margin: 0px\; padding: 0px\; border: 0px\; font-variant: inherit\; font-weight: 600\; font-stretch: inherit\; font-size: 24px\; line-height: 1\; vertical-align: baseline\; color: rgb(140\, 184\, 97)\;">Includes</h4>\n\n<ul style="box-sizing: border-box\; margin: 0px 0px 30px 15px\; padding-right: 0px\; padding-left: 0px\; border: 0px\; font-style: inherit\; font-variant: inherit\; font-weight: inherit\; font-stretch: inherit\; font-size: inherit\; line-height: inherit\; font-family: inherit\; vertical-align: baseline\; list-style: none\;">\n	<li style="box-sizing: border-box\; margin: 0px 0px 13px\; padding: 0px 0px 0px 25px\; border: 0px\; font-style: inherit\; font-variant: inherit\; font-weight: inherit\; font-stretch: inherit\; font-size: inherit\; line-height: 26px\; font-family: inherit\; vertical-align: baseline\; position: relative\;"><span style="box-sizing: border-box\; margin: 0px\; padding: 0px\; border: 0px\; font-style: inherit\; font-variant: inherit\; font-weight: 600\; font-stretch: inherit\; font-size: inherit\; line-height: inherit\; font-family: inherit\; vertical-align: baseline\;">Advice</span>&nbsp\;before your cleanse to prepare you for shopping &amp\; easier detoxification</li>\n	<li style="box-sizing: border-box\; margin: 0px 0px 13px\; padding: 0px 0px 0px 25px\; border: 0px\; font-style: inherit\; font-variant: inherit\; font-weight: inherit\; font-stretch: inherit\; font-size: inherit\; line-height: 26px\; font-family: inherit\; vertical-align: baseline\; position: relative\;">10 days of professional\,&nbsp\;<span style="box-sizing: border-box\; margin: 0px\; padding: 0px\; border: 0px\; font-style: inherit\; font-variant: inherit\; font-weight: 600\; font-stretch: inherit\; font-size: inherit\; line-height: inherit\; font-family: inherit\; vertical-align: baseline\;">customized support</span>&nbsp\;from our Groton Wellness Functional Medicine Team</li>\n	<li style="box-sizing: border-box\; margin: 0px 0px 13px\; padding: 0px 0px 0px 25px\; border: 0px\; font-style: inherit\; font-variant: inherit\; font-weight: inherit\; font-stretch: inherit\; font-size: inherit\; line-height: 26px\; font-family: inherit\; vertical-align: baseline\; position: relative\;">Easy-to-make\, delicious\, recipes\, email tips\, mindfulness practices\, journaling &amp\; self-reflection</li>\n	<li style="box-sizing: border-box\; margin: 0px 0px 13px\; padding: 0px 0px 0px 25px\; border: 0px\; font-style: inherit\; font-variant: inherit\; font-weight: inherit\; font-stretch: inherit\; font-size: inherit\; line-height: 26px\; font-family: inherit\; vertical-align: baseline\; position: relative\;">Create new habits\, remove cravings\, &amp\; improve clarity\, all while losing weight naturally</li>\n	<li style="box-sizing: border-box\; margin: 0px 0px 13px\; padding: 0px 0px 0px 25px\; border: 0px\; font-style: inherit\; font-variant: inherit\; font-weight: inherit\; font-stretch: inherit\; font-size: inherit\; line-height: 26px\; font-family: inherit\; vertical-align: baseline\; position: relative\;"><span style="box-sizing: border-box\; margin: 0px\; padding: 0px\; border: 0px\; font-style: inherit\; font-variant: inherit\; font-weight: 600\; font-stretch: inherit\; font-size: inherit\; line-height: inherit\; font-family: inherit\; vertical-align: baseline\;">Guest speakers</span>&nbsp\;at each of your&nbsp\;<span style="box-sizing: border-box\; margin: 0px\; padding: 0px\; border: 0px\; font-style: inherit\; font-variant: inherit\; font-weight: 600\; font-stretch: inherit\; font-size: inherit\; line-height: inherit\; font-family: inherit\; vertical-align: baseline\;">4 in-person meetings</span></li>\n</ul>\n\n<p style="box-sizing: border-box\; margin: 0px 0px 10px\; padding: 0px\; border: 0px\; font-variant: inherit\; font-stretch: inherit\; line-height: 1.7\; vertical-align: baseline\;">&nbsp\;</p>\n\n<h3 style="box-sizing: border-box\; margin: 0px 0px 10px\; padding: 0px\; border: 0px\; font-variant: inherit\; font-weight: 600\; font-stretch: inherit\; font-size: 30px\; line-height: 1\; vertical-align: baseline\; color: rgb(33\, 64\, 154)\;">Detoxification Support&nbsp\;<em style="box-sizing: border-box\; margin: 0px\; padding: 0px\; border: 0px\; font-variant: inherit\; font-weight: inherit\; font-stretch: inherit\; font-size: inherit\; line-height: inherit\; font-family: inherit\; vertical-align: baseline\;">(Optional)</em></h3>\n\n<h4 style="box-sizing: border-box\; margin: 0px\; padding: 0px\; border: 0px\; font-variant: inherit\; font-weight: 600\; font-stretch: inherit\; font-size: 24px\; line-height: 1\; vertical-align: baseline\; color: rgb(140\, 184\, 97)\;">Special For Cleanse Participants</h4>\n\n<p style="box-sizing: border-box\; margin: 0px 0px 10px\; padding: 0px\; border: 0px\; font-variant: inherit\; font-stretch: inherit\; line-height: 1.7\; vertical-align: baseline\;"><span style="box-sizing: border-box\; margin: 0px\; padding: 0px\; border: 0px\; font-style: inherit\; font-variant: inherit\; font-weight: 600\; font-stretch: inherit\; font-size: inherit\; line-height: inherit\; font-family: inherit\; vertical-align: baseline\;">It is important to remove toxins from your body naturally.&nbsp\;</span>Choose any of these detoxification services &amp\; receive&nbsp\;<span style="box-sizing: border-box\; margin: 0px\; padding: 0px\; border: 0px\; font-style: inherit\; font-variant: inherit\; font-weight: 600\; font-stretch: inherit\; font-size: inherit\; line-height: inherit\; font-family: inherit\; vertical-align: baseline\;">15% OFF</span>&nbsp\;initial&nbsp\;appointment fee.</p>\n\n<ul style="box-sizing: border-box\; margin: 0px 0px 30px 15px\; padding-right: 0px\; padding-left: 0px\; border: 0px\; font-style: inherit\; font-variant: inherit\; font-weight: inherit\; font-stretch: inherit\; font-size: inherit\; line-height: inherit\; font-family: inherit\; vertical-align: baseline\; list-style: none\;">\n	<li style="box-sizing: border-box\; margin: 0px 0px 13px\; padding: 0px 0px 0px 25px\; border: 0px\; font-style: inherit\; font-variant: inherit\; font-weight: inherit\; font-stretch: inherit\; font-size: inherit\; line-height: 26px\; font-family: inherit\; vertical-align: baseline\; position: relative\;"><span style="box-sizing: border-box\; margin: 0px\; padding: 0px\; border: 0px\; font-style: inherit\; font-variant: inherit\; font-weight: 600\; font-stretch: inherit\; font-size: inherit\; line-height: inherit\; font-family: inherit\; vertical-align: baseline\;">Detoxifying Therapeutic Clay Bath</span>&nbsp\;~ Now Only $69.70&nbsp\;<em style="box-sizing: border-box\; margin: 0px\; padding: 0px\; border: 0px\; font-variant: inherit\; font-weight: inherit\; font-stretch: inherit\; font-size: inherit\; line-height: inherit\; font-family: inherit\; vertical-align: baseline\;">(call to schedule)</em></li>\n	<li style="box-sizing: border-box\; margin: 0px 0px 13px\; padding: 0px 0px 0px 25px\; border: 0px\; font-style: inherit\; font-variant: inherit\; font-weight: inherit\; font-stretch: inherit\; font-size: inherit\; line-height: 26px\; font-family: inherit\; vertical-align: baseline\; position: relative\;"><span style="box-sizing: border-box\; margin: 0px\; padding: 0px\; border: 0px\; font-style: inherit\; font-variant: inherit\; font-weight: 600\; font-stretch: inherit\; font-size: inherit\; line-height: inherit\; font-family: inherit\; vertical-align: baseline\;">Colon Hydrotherapy</span>&nbsp\;~ Now Only $91.80&nbsp\;<em style="box-sizing: border-box\; margin: 0px\; padding: 0px\; border: 0px\; font-variant: inherit\; font-weight: inherit\; font-stretch: inherit\; font-size: inherit\; line-height: inherit\; font-family: inherit\; vertical-align: baseline\;">(call to schedule)</em></li>\n	<li style="box-sizing: border-box\; margin: 0px 0px 13px\; padding: 0px 0px 0px 25px\; border: 0px\; font-style: inherit\; font-variant: inherit\; font-weight: inherit\; font-stretch: inherit\; font-size: inherit\; line-height: 26px\; font-family: inherit\; vertical-align: baseline\; position: relative\;"><span style="box-sizing: border-box\; margin: 0px\; padding: 0px\; border: 0px\; font-style: inherit\; font-variant: inherit\; font-weight: 600\; font-stretch: inherit\; font-size: inherit\; line-height: inherit\; font-family: inherit\; vertical-align: baseline\;">Constitutional Hydrotherapy</span>&nbsp\;~ Now Only $115.60&nbsp\;<em style="box-sizing: border-box\; margin: 0px\; padding: 0px\; border: 0px\; font-variant: inherit\; font-weight: inherit\; font-stretch: inherit\; font-size: inherit\; line-height: inherit\; font-family: inherit\; vertical-align: baseline\;">(call to schedule)</em></li>\n	<li style="box-sizing: border-box\; margin: 0px 0px 13px\; padding: 0px 0px 0px 25px\; border: 0px\; font-style: inherit\; font-variant: inherit\; font-weight: inherit\; font-stretch: inherit\; font-size: inherit\; line-height: 26px\; font-family: inherit\; vertical-align: baseline\; position: relative\;">Kick-Start with a&nbsp\;<span style="box-sizing: border-box\; margin: 0px\; padding: 0px\; border: 0px\; font-style: inherit\; font-variant: inherit\; font-weight: 600\; font-stretch: inherit\; font-size: inherit\; line-height: inherit\; font-family: inherit\; vertical-align: baseline\;">2-Day Clean-Eating Cooler-To-Go</span>&nbsp\;~ Add $99<br style="box-sizing: border-box\;" />\n	<em style="box-sizing: border-box\; margin: 0px\; padding: 0px\; border: 0px\; font-variant: inherit\; font-weight: inherit\; font-stretch: inherit\; font-size: inherit\; line-height: inherit\; font-family: inherit\; vertical-align: baseline\;">(optional online order with your&nbsp\;cleanse)</em><br style="box-sizing: border-box\;" />\n	<em style="box-sizing: border-box\; margin: 0px\; padding: 0px\; border: 0px\; font-variant: inherit\; font-weight: inherit\; font-stretch: inherit\; font-size: inherit\; line-height: inherit\; font-family: inherit\; vertical-align: baseline\;">Must book &amp\; receive service by 2.9.18 Space is limited.</em></li>\n</ul>\n\n<h3 style="box-sizing: border-box\; margin: 0px 0px 10px\; padding: 0px\; border: 0px\; font-variant: inherit\; font-weight: 600\; font-stretch: inherit\; font-size: 30px\; line-height: 1\; vertical-align: baseline\; color: rgb(33\, 64\, 154)\;">Testimonial</h3>\n\n<h4 style="box-sizing: border-box\; margin: 0px\; padding: 0px\; border: 0px\; font-variant: inherit\; font-weight: 600\; font-stretch: inherit\; font-size: 24px\; line-height: 1\; vertical-align: baseline\; color: rgb(140\, 184\, 97)\;"><em style="box-sizing: border-box\; margin: 0px\; padding: 0px\; border: 0px\; font-variant: inherit\; font-weight: inherit\; font-stretch: inherit\; font-size: inherit\; line-height: inherit\; font-family: inherit\; vertical-align: baseline\;">Use of real food\, not products! The pace is excellent and a&nbsp\;great sense of community. Take a chance and step into a wonderful new world! You will be well supported at every step of the way. And the results are unbelievable.</em><br style="box-sizing: border-box\;" />\n~&nbsp\;Priscilla W.</h4>\n\n<p style="box-sizing: border-box\; margin: 0px 0px 10px\; padding: 0px\; border: 0px\; font-variant: inherit\; font-stretch: inherit\; line-height: 1.7\; vertical-align: baseline\;">&nbsp\;</p>\n\n<p style="box-sizing: border-box\; margin: 0px 0px 10px\; padding: 0px\; border: 0px\; font-variant: inherit\; font-stretch: inherit\; line-height: 1.7\; vertical-align: baseline\;"><em style="box-sizing: border-box\; margin: 0px\; padding: 0px\; border: 0px\; font-variant: inherit\; font-weight: inherit\; font-stretch: inherit\; font-size: inherit\; line-height: inherit\; font-family: inherit\; vertical-align: baseline\;">Space is Limited. Pre-registration required. Non-refundable.&nbsp\;&nbsp\;</em><br />\n<br />\nhttps://www.grotonwellness.com/event/10-day-group-cleanse/</p>\n</div>\n</div>\n
LOCATION:
UID:e.518.32714
SEQUENCE:3
DTSTAMP:20260426T042507Z
URL:https://business.nvcoc.com/events/details/10-day-group-cleanse-groton-wellness-32714
END:VEVENT

END:VCALENDAR
